BEGIN:VCALENDAR
VERSION:2.0
X-WR-CALNAME:EventsCalendar
CALSCALE:GREGORIAN
BEGIN:VTIMEZONE
TZID:America/Chicago
LAST-MODIFIED:20231222T233358Z
TZURL:https://www.tzurl.org/zoneinfo-outlook/America/Chicago
X-LIC-LOCATION:America/Chicago
BEGIN:DAYLIGHT
TZNAME:CDT
TZOFFSETFROM:-0600
TZOFFSETTO:-0500
DTSTART:19700308T020000
RRULE:FREQ=YEARLY;BYMONTH=3;BYDAY=2SU
END:DAYLIGHT
BEGIN:STANDARD
TZNAME:CST
TZOFFSETFROM:-0500
TZOFFSETTO:-0600
DTSTART:19701101T020000
RRULE:FREQ=YEARLY;BYMONTH=11;BYDAY=1SU
END:STANDARD
END:VTIMEZONE
BEGIN:VEVENT
CATEGORIES:Category,Special Events,Location,Mountain View
DESCRIPTION:You are invited to join Dallas Police Department Community Affairs for their free turkey and food distribution drive-thru. One turkey per car, while supplies last. Location: Mountain View Campus, near Building Z &amp;nbsp;151485
DTSTAMP:20260422T140852
DTSTART;TZID=America/Chicago:20251122T090000
DTEND;TZID=America/Chicago:20251122T120000
LOCATION:Mountain View
SUMMARY;LANGUAGE=en-us:Sixth Annual Turkey and Food Distribution
UID:dc1c0af13a9bb766598292e36ddf31b4@www.dallascollege.edu
END:VEVENT
END:VCALENDAR
