BEGIN:VCALENDAR
VERSION:2.0
X-WR-CALNAME:EventsCalendar
CALSCALE:GREGORIAN
BEGIN:VTIMEZONE
TZID:America/Chicago
LAST-MODIFIED:20231222T233358Z
TZURL:https://www.tzurl.org/zoneinfo-outlook/America/Chicago
X-LIC-LOCATION:America/Chicago
BEGIN:DAYLIGHT
TZNAME:CDT
TZOFFSETFROM:-0600
TZOFFSETTO:-0500
DTSTART:19700308T020000
RRULE:FREQ=YEARLY;BYMONTH=3;BYDAY=2SU
END:DAYLIGHT
BEGIN:STANDARD
TZNAME:CST
TZOFFSETFROM:-0500
TZOFFSETTO:-0600
DTSTART:19701101T020000
RRULE:FREQ=YEARLY;BYMONTH=11;BYDAY=1SU
END:STANDARD
END:VTIMEZONE
BEGIN:VEVENT
CATEGORIES:Category,Events,Location,Brookhaven,Location,Cedar Valley,Location,Eastfield,Location,El Centro,Location,Mountain View,Location,North Lake,Location,Richland,Tag,New Student Orientation
DESCRIPTION:New Student Orientation is where all Dallas College Students: Begin to find their place among a diverse community of fellow learners. Develop academic and career goals and discover resources customized for their success. Meet current students and discover ways to be involved on campus. Become immersed in the culture and traditions of Dallas College. Locations: Brookhaven Campus - C210, Parking Lot P4 (Valley View Lane Entrance) Cedar Valley Campus - Performance Hall E126, Parking Lot S1 and S2 (Dallas Avenue Entrance) Eastfield Campus - Performance Hall F209, Parking Lot 8 (Eastfield Parkway Entrance) El Centro Campus - Performance Hall C132, Meters/Paid Parking (Elm and Main Street Entrance) Mountain View Campus - Performance Hall E127, Parking Lot P2 (Knoxville Road Entrance) North Lake Campus - Performance Hall P302, Parking Lot P1 (N. MacArthur Boulevard) Richland Campus - FH-102, Parking Lot V (Abrams Road Entrance) Register to Reserve your Spot151612
DTSTAMP:20260422T182557
DTSTART;TZID=America/Chicago:20260108T110000
DTEND;TZID=America/Chicago:20260108T130000
LOCATION:Brookhaven, Cedar Valley, Eastfield, El Centro, Mountain View, North Lake, Richland
SUMMARY;LANGUAGE=en-us:New Student Orientation (Brookhaven, Cedar Valley, Eastfield, El Centro, Mountain View, North Lake, Richland)
UID:6fd5b1a577e153a9960fe5c1d4a4f632@www.dallascollege.edu
END:VEVENT
END:VCALENDAR
