BEGIN:VCALENDAR
VERSION:2.0
X-WR-CALNAME:EventsCalendar
CALSCALE:GREGORIAN
BEGIN:VTIMEZONE
TZID:America/Chicago
LAST-MODIFIED:20231222T233358Z
TZURL:https://www.tzurl.org/zoneinfo-outlook/America/Chicago
X-LIC-LOCATION:America/Chicago
BEGIN:DAYLIGHT
TZNAME:CDT
TZOFFSETFROM:-0600
TZOFFSETTO:-0500
DTSTART:19700308T020000
RRULE:FREQ=YEARLY;BYMONTH=3;BYDAY=2SU
END:DAYLIGHT
BEGIN:STANDARD
TZNAME:CST
TZOFFSETFROM:-0500
TZOFFSETTO:-0600
DTSTART:19701101T020000
RRULE:FREQ=YEARLY;BYMONTH=11;BYDAY=1SU
END:STANDARD
END:VTIMEZONE
BEGIN:VEVENT
CATEGORIES:Category,Events,Location,Cedar Valley,Location,El Centro,Location,North Lake,Tag,New Student Orientation
DESCRIPTION:New Student Orientation is where all Dallas College Students: Begin to find their place among a diverse community of fellow learners. Develop academic and career goals and discover resources customized for their success. Meet current students and discover ways to be involved on campus. Become immersed in the culture and traditions of Dallas College. Locations: Cedar Valley - Performance Hall E126, Parking Lot S1 and S2 (Dallas Avenue Entrance) El Centro Campus - Performance Hall C132, Meters/Paid Parking Lots (Elm and Main Street Entrance) North Lake Campus - Performance Hall P302, Parking Lot P1 (N. MacArthur Boulevard Entrance) Register to Reserve your Spot151613
DTSTAMP:20260422T202442
DTSTART;TZID=America/Chicago:20260115T153000
DTEND;TZID=America/Chicago:20260115T200000
LOCATION:Cedar Valley, El Centro, North Lake
SUMMARY;LANGUAGE=en-us:New Student Orientation (Cedar Valley, El Centro, North Lake)
UID:0340f30409fb987be0777a26f68a85a4@www.dallascollege.edu
END:VEVENT
END:VCALENDAR
