BEGIN:VCALENDAR
VERSION:2.0
X-WR-CALNAME:EventsCalendar
CALSCALE:GREGORIAN
BEGIN:VTIMEZONE
TZID:America/Chicago
LAST-MODIFIED:20231222T233358Z
TZURL:https://www.tzurl.org/zoneinfo-outlook/America/Chicago
X-LIC-LOCATION:America/Chicago
BEGIN:DAYLIGHT
TZNAME:CDT
TZOFFSETFROM:-0600
TZOFFSETTO:-0500
DTSTART:19700308T020000
RRULE:FREQ=YEARLY;BYMONTH=3;BYDAY=2SU
END:DAYLIGHT
BEGIN:STANDARD
TZNAME:CST
TZOFFSETFROM:-0500
TZOFFSETTO:-0600
DTSTART:19701101T020000
RRULE:FREQ=YEARLY;BYMONTH=11;BYDAY=1SU
END:STANDARD
END:VTIMEZONE
BEGIN:VEVENT
CATEGORIES:Category,Financial Aid,Category,Seminars and Speakers,Location,Online
DESCRIPTION:Dallas College has partnered with Inceptia to bring you the Financial Literacy Series! Join our virtual workshops to learn how to make smart financial decisions, manage your money with confidence and set yourself up for long-term success. Choose the date that works for you: The same session is being offered twice &amp;mdash; once on April 15 and once on April 29.&amp;nbsp; In this session, get clear guidance on navigating student loans, car loans and mortgages, with repayment options and borrowing best practices.&amp;nbsp; Join the webinar on Microsoft Teams.151644
DTSTAMP:20260419T235205
DTSTART;TZID=America/Chicago:20260415T150000
DTEND;TZID=America/Chicago:20260415T160000
LOCATION:Online
SUMMARY;LANGUAGE=en-us:The More You Know, the Less You Owe: Loan Guidance
UID:307803968402b038c66a7f6965e4ef3c@www.dallascollege.edu
END:VEVENT
BEGIN:VEVENT
CATEGORIES:Category,Financial Aid,Category,Seminars and Speakers,Location,Online
DESCRIPTION:Dallas College has partnered with Inceptia to bring you the Financial Literacy Series! Join our virtual workshops to learn how to make smart financial decisions, manage your money with confidence and set yourself up for long-term success. Choose the date that works for you: The same session is being offered twice &amp;mdash; once on April 15 and once on April 29.&amp;nbsp; In this session, get clear guidance on navigating student loans, car loans and mortgages, with repayment options and borrowing best practices.&amp;nbsp; Join the webinar on Microsoft Teams.151644
DTSTAMP:20260419T235205
DTSTART;TZID=America/Chicago:20260429T150000
DTEND;TZID=America/Chicago:20260429T160000
LOCATION:Online
SUMMARY;LANGUAGE=en-us:The More You Know, the Less You Owe: Loan Guidance
UID:45010323d8a5ddebb1fc12be5f32a875@www.dallascollege.edu
END:VEVENT
END:VCALENDAR
