BEGIN:VCALENDAR
VERSION:2.0
X-WR-CALNAME:EventsCalendar
CALSCALE:GREGORIAN
BEGIN:VTIMEZONE
TZID:America/Chicago
LAST-MODIFIED:20231222T233358Z
TZURL:https://www.tzurl.org/zoneinfo-outlook/America/Chicago
X-LIC-LOCATION:America/Chicago
BEGIN:DAYLIGHT
TZNAME:CDT
TZOFFSETFROM:-0600
TZOFFSETTO:-0500
DTSTART:19700308T020000
RRULE:FREQ=YEARLY;BYMONTH=3;BYDAY=2SU
END:DAYLIGHT
BEGIN:STANDARD
TZNAME:CST
TZOFFSETFROM:-0500
TZOFFSETTO:-0600
DTSTART:19701101T020000
RRULE:FREQ=YEARLY;BYMONTH=11;BYDAY=1SU
END:STANDARD
END:VTIMEZONE
BEGIN:VEVENT
CATEGORIES:Category,Board of Trustees,Location,Administrative Office,Tag,Board of Trustees
DESCRIPTION:The Board of Trustees will hold a governance committee meeting on Dec. 2, 2025. Meeting Location: Room #036 December 2, 2025 Governance Committee Agenda (PDF - 2MB) Watch live streaming of board meeting. View the Board of Trustees website. Agendas, captioned videos, and transcripts for past Dallas College board meetings.151759
DTSTAMP:20260422T201043
DTSTART;TZID=America/Chicago:20251202T100000
DTEND;TZID=America/Chicago:20251202T130000
LOCATION:Administrative Office
SUMMARY;LANGUAGE=en-us:December Board Meeting - Governance Committee
UID:939f84cf9f09f38fd075caeba4031413@www.dallascollege.edu
END:VEVENT
END:VCALENDAR
