BEGIN:VCALENDAR
VERSION:2.0
X-WR-CALNAME:EventsCalendar
CALSCALE:GREGORIAN
BEGIN:VTIMEZONE
TZID:America/Chicago
LAST-MODIFIED:20231222T233358Z
TZURL:https://www.tzurl.org/zoneinfo-outlook/America/Chicago
X-LIC-LOCATION:America/Chicago
BEGIN:DAYLIGHT
TZNAME:CDT
TZOFFSETFROM:-0600
TZOFFSETTO:-0500
DTSTART:19700308T020000
RRULE:FREQ=YEARLY;BYMONTH=3;BYDAY=2SU
END:DAYLIGHT
BEGIN:STANDARD
TZNAME:CST
TZOFFSETFROM:-0500
TZOFFSETTO:-0600
DTSTART:19701101T020000
RRULE:FREQ=YEARLY;BYMONTH=11;BYDAY=1SU
END:STANDARD
END:VTIMEZONE
BEGIN:VEVENT
CATEGORIES:Category,Board of Trustees,Location,Administrative Office,Tag,Board of Trustees
DESCRIPTION:The Board of Trustees will hold an audit committee meeting on Dec. 2, 2025. Meeting Location: Room #036 December 2, 2025 Audit Committee Agenda (PDF - 2MB) View the Board of Trustees website. Agendas, captioned videos, and transcripts for pas Dallas College board meetings.151761
DTSTAMP:20260422T183714
DTSTART;TZID=America/Chicago:20251202T130000
DTEND;TZID=America/Chicago:20251202T140000
LOCATION:Administrative Office
SUMMARY;LANGUAGE=en-us:December Board Meeting - Audit Committee
UID:07a0b0d9d0c1a78bc560165576b8d5de@www.dallascollege.edu
END:VEVENT
END:VCALENDAR
