BEGIN:VCALENDAR
VERSION:2.0
X-WR-CALNAME:EventsCalendar
CALSCALE:GREGORIAN
BEGIN:VTIMEZONE
TZID:America/Chicago
LAST-MODIFIED:20231222T233358Z
TZURL:https://www.tzurl.org/zoneinfo-outlook/America/Chicago
X-LIC-LOCATION:America/Chicago
BEGIN:DAYLIGHT
TZNAME:CDT
TZOFFSETFROM:-0600
TZOFFSETTO:-0500
DTSTART:19700308T020000
RRULE:FREQ=YEARLY;BYMONTH=3;BYDAY=2SU
END:DAYLIGHT
BEGIN:STANDARD
TZNAME:CST
TZOFFSETFROM:-0500
TZOFFSETTO:-0600
DTSTART:19701101T020000
RRULE:FREQ=YEARLY;BYMONTH=11;BYDAY=1SU
END:STANDARD
END:VTIMEZONE
BEGIN:VEVENT
CATEGORIES:Category,Board of Trustees,Location,Administrative Office,Tag,Board of Trustees
DESCRIPTION:The Board of Trustees will hold a regular meeting on Dec. 2, 2025. Meeting Location: Room #036 December 2, 2025 Regular Meeting Agenda (PDF - 3MB) View the Board of Trustees website. Agendas, captioned video, and transcripts for past Dallas College board meetings.151763
DTSTAMP:20260422T233037
DTSTART;TZID=America/Chicago:20251202T160000
DTEND;TZID=America/Chicago:20251202T170000
LOCATION:Administrative Office
SUMMARY;LANGUAGE=en-us:December Board Meeting - Regular
UID:5439f490220eff9c51562375835ba8a1@www.dallascollege.edu
END:VEVENT
END:VCALENDAR
