BEGIN:VCALENDAR
VERSION:2.0
X-WR-CALNAME:EventsCalendar
CALSCALE:GREGORIAN
BEGIN:VTIMEZONE
TZID:America/Chicago
LAST-MODIFIED:20231222T233358Z
TZURL:https://www.tzurl.org/zoneinfo-outlook/America/Chicago
X-LIC-LOCATION:America/Chicago
BEGIN:DAYLIGHT
TZNAME:CDT
TZOFFSETFROM:-0600
TZOFFSETTO:-0500
DTSTART:19700308T020000
RRULE:FREQ=YEARLY;BYMONTH=3;BYDAY=2SU
END:DAYLIGHT
BEGIN:STANDARD
TZNAME:CST
TZOFFSETFROM:-0500
TZOFFSETTO:-0600
DTSTART:19701101T020000
RRULE:FREQ=YEARLY;BYMONTH=11;BYDAY=1SU
END:STANDARD
END:VTIMEZONE
BEGIN:VEVENT
CATEGORIES:Category,Student Life,Location,Offsite,Tag,Intercultural/Global Events 
DESCRIPTION:What are you doing for others? Join us for a powerful day of advocacy, awareness and action as we celebrate Dr. Martin Luther King Jr.&#039;s legacy through meaningful service. What You&amp;rsquo;ll Do This MLK Day we&amp;rsquo;re volunteering at Habitat for Humanity ReStore, where every hour you volunteer helps build affordable homes. You might assist customers, sort donations, or organize the store &amp;mdash; every task makes a difference! Locations:&amp;nbsp; Habitat for Humanity ReStores 2848 Walnut Hill Lane, Dallas, TX 75229 2800 N. Hampton Road, Dallas, TX 75212 Transportation and Sign-Up Free transportation will depart from the IGSE offices at the Cedar Valley and Brookhaven campuses.&amp;nbsp; Sign up to serve &amp;nbsp; Hosted by IGSEThis event is part of the Intercultural and Global Student Engagement (IGSE) Civic Engagement Days initiative, which brings Dallas College students, faculty, and staff together to address local issues through community service.151793
DTSTAMP:20260422T182535
DTSTART;TZID=America/Chicago:20260123T090000
DTEND;TZID=America/Chicago:20260123T130000
LOCATION:Offsite
SUMMARY;LANGUAGE=en-us:MLK Day of Service
UID:58a4537bb03c99844e4a474947fd223c@www.dallascollege.edu
END:VEVENT
END:VCALENDAR
