BEGIN:VCALENDAR
VERSION:2.0
X-WR-CALNAME:EventsCalendar
CALSCALE:GREGORIAN
BEGIN:VTIMEZONE
TZID:America/Chicago
LAST-MODIFIED:20231222T233358Z
TZURL:https://www.tzurl.org/zoneinfo-outlook/America/Chicago
X-LIC-LOCATION:America/Chicago
BEGIN:DAYLIGHT
TZNAME:CDT
TZOFFSETFROM:-0600
TZOFFSETTO:-0500
DTSTART:19700308T020000
RRULE:FREQ=YEARLY;BYMONTH=3;BYDAY=2SU
END:DAYLIGHT
BEGIN:STANDARD
TZNAME:CST
TZOFFSETFROM:-0500
TZOFFSETTO:-0600
DTSTART:19701101T020000
RRULE:FREQ=YEARLY;BYMONTH=11;BYDAY=1SU
END:STANDARD
END:VTIMEZONE
BEGIN:VEVENT
CATEGORIES:Category,Career and Transfer,Location,Online
DESCRIPTION:Career Kickoff Week February 2&amp;ndash;5 | 6:00&amp;ndash;7:00 PM (Daily) Career Kickoff Week is a dynamic, four-day series of interactive workshops designed to help students take the next step toward career success. Whether you are preparing to enter the workforce or looking to strengthen specific, marketable skills, this event provides practical tools and guidance to support your professional growth. Each evening session will focus on career readiness and skill development, offering students opportunities to explore career pathways, build confidence, and gain competencies aligned with today&amp;rsquo;s workforce needs. Workshops are designed to be engaging, accessible, and applicable across a variety of career interests and experience levels. Join us for Career Kickoff Week to invest in your future, develop in-demand skills, and gain clarity on your next career move. Click here to register! Questions contact Career Service at Careerandtransfer@dallascolleg.edu152554
DTSTAMP:20260422T182736
DTSTART;TZID=America/Chicago:20260202T180000
DTEND;TZID=America/Chicago:20260202T190000
LOCATION:Online
SUMMARY;LANGUAGE=en-us:Career Kickoff Week Spring 2026
UID:728e7300fa3d89006393f1a9b9054d87@www.dallascollege.edu
END:VEVENT
END:VCALENDAR
