BEGIN:VCALENDAR
VERSION:2.0
X-WR-CALNAME:EventsCalendar
CALSCALE:GREGORIAN
BEGIN:VTIMEZONE
TZID:America/Chicago
LAST-MODIFIED:20231222T233358Z
TZURL:https://www.tzurl.org/zoneinfo-outlook/America/Chicago
X-LIC-LOCATION:America/Chicago
BEGIN:DAYLIGHT
TZNAME:CDT
TZOFFSETFROM:-0600
TZOFFSETTO:-0500
DTSTART:19700308T020000
RRULE:FREQ=YEARLY;BYMONTH=3;BYDAY=2SU
END:DAYLIGHT
BEGIN:STANDARD
TZNAME:CST
TZOFFSETFROM:-0500
TZOFFSETTO:-0600
DTSTART:19701101T020000
RRULE:FREQ=YEARLY;BYMONTH=11;BYDAY=1SU
END:STANDARD
END:VTIMEZONE
BEGIN:VEVENT
CATEGORIES:Category,Student Life,Location,All Seven Campuses,Tag,Student Life,Tag,Welcome Week 
DESCRIPTION:Stop by our Ask Me/Welcome Tables for help navigating the campus and getting your questions answered, and kick off the semester the right way. Ask Me/Welcome Tables Locations: BHC: S-001 / S-002 CVC: D Courtyard EFC: The Hive Lounge &amp;amp; G Connector (Information Central at B Building) ECC: Student Center/Main Area MVC: W-Foyer &amp;amp; E-Foyer NLC: J Hallway &amp;amp; Gallery RLC: East Breezeway, West Breezeway, WH Lobby, El Paso Student Lounge, El Paso Hallway Come say hi, grab some info, and get connected &amp;mdash; we can&amp;rsquo;t wait to welcome you to campus!152669
DTSTAMP:20260422T202445
DTSTART;TZID=America/Chicago:20260120T150000
DTEND;TZID=America/Chicago:20260120T170000
LOCATION:All Seven Campuses
SUMMARY;LANGUAGE=en-us:WOW Fest - Ask Me Tables
UID:02ffa98783493c186e0b8a38638e6b4d@www.dallascollege.edu
END:VEVENT
END:VCALENDAR
