BEGIN:VCALENDAR
VERSION:2.0
X-WR-CALNAME:EventsCalendar
CALSCALE:GREGORIAN
BEGIN:VTIMEZONE
TZID:America/Chicago
LAST-MODIFIED:20231222T233358Z
TZURL:https://www.tzurl.org/zoneinfo-outlook/America/Chicago
X-LIC-LOCATION:America/Chicago
BEGIN:DAYLIGHT
TZNAME:CDT
TZOFFSETFROM:-0600
TZOFFSETTO:-0500
DTSTART:19700308T020000
RRULE:FREQ=YEARLY;BYMONTH=3;BYDAY=2SU
END:DAYLIGHT
BEGIN:STANDARD
TZNAME:CST
TZOFFSETFROM:-0500
TZOFFSETTO:-0600
DTSTART:19701101T020000
RRULE:FREQ=YEARLY;BYMONTH=11;BYDAY=1SU
END:STANDARD
END:VTIMEZONE
BEGIN:VEVENT
CATEGORIES:Category,Student Life,Location,Cedar Valley,Location,Eastfield,Location,Mountain View,Location,North Lake,Location,Richland,Tag,Student Life,Tag,Welcome Week 
DESCRIPTION:Join us for a Resource Fair and Welcome Bash, where you can discover helpful campus resources, get your questions answered and learn how to navigate campus with confidence. Meet friendly staff, connect with student services and kick off the semester in a fun and welcoming way! Event Locations CVC: A, B, C Skywalk &amp;amp; D002 Cafeteria EFC: The Hive MVC: W Hall &amp;amp; Tree Top Lounge NLC: H200 &amp;amp; H226 RLC: El Paso Student Lounge &amp;amp; EL Paso Hallway &amp;nbsp; Come say hi, grab useful information and get connected. We&amp;rsquo;re excited to welcome you to campus and help you start the semester strong!152671
DTSTAMP:20260422T095831
DTSTART;TZID=America/Chicago:20260122T100000
DTEND;TZID=America/Chicago:20260122T140000
LOCATION:Cedar Valley, Eastfield, Mountain View, North Lake, Richland
SUMMARY;LANGUAGE=en-us:WOW Fest - Resource Fair and Welcome Bash
UID:11f01034183fd0454b4bbb6c8057285b@www.dallascollege.edu
END:VEVENT
END:VCALENDAR
