BEGIN:VCALENDAR
VERSION:2.0
X-WR-CALNAME:EventsCalendar
CALSCALE:GREGORIAN
BEGIN:VTIMEZONE
TZID:America/Chicago
LAST-MODIFIED:20231222T233358Z
TZURL:https://www.tzurl.org/zoneinfo-outlook/America/Chicago
X-LIC-LOCATION:America/Chicago
BEGIN:DAYLIGHT
TZNAME:CDT
TZOFFSETFROM:-0600
TZOFFSETTO:-0500
DTSTART:19700308T020000
RRULE:FREQ=YEARLY;BYMONTH=3;BYDAY=2SU
END:DAYLIGHT
BEGIN:STANDARD
TZNAME:CST
TZOFFSETFROM:-0500
TZOFFSETTO:-0600
DTSTART:19701101T020000
RRULE:FREQ=YEARLY;BYMONTH=11;BYDAY=1SU
END:STANDARD
END:VTIMEZONE
BEGIN:VEVENT
CATEGORIES:Category,Arts and Culture,Location,Richland,Tag,Music
DESCRIPTION:Join us for an inspiring evening at our student orchestra concert, where young talent takes center stage! Featuring dynamic performances from our dedicated student musicians, this concert will showcase their skill and passion through a variety of orchestral works. From stirring symphonic pieces to captivating solos, don&#039;t miss this opportunity to support the next generation of orchestral artists in a performance you won&#039;t forget! Location: Richland Campus, Fannin Hall, Rm. F102152685
DTSTAMP:20260422T182046
DTSTART;TZID=America/Chicago:20260310T193000
DTEND;TZID=America/Chicago:20260310T210000
LOCATION:Richland
SUMMARY;LANGUAGE=en-us:Orchestra Concert
UID:60a84222047aa12aed32c4dcca0c5c51@www.dallascollege.edu
END:VEVENT
END:VCALENDAR
