BEGIN:VCALENDAR
VERSION:2.0
X-WR-CALNAME:EventsCalendar
CALSCALE:GREGORIAN
BEGIN:VTIMEZONE
TZID:America/Chicago
LAST-MODIFIED:20231222T233358Z
TZURL:https://www.tzurl.org/zoneinfo-outlook/America/Chicago
X-LIC-LOCATION:America/Chicago
BEGIN:DAYLIGHT
TZNAME:CDT
TZOFFSETFROM:-0600
TZOFFSETTO:-0500
DTSTART:19700308T020000
RRULE:FREQ=YEARLY;BYMONTH=3;BYDAY=2SU
END:DAYLIGHT
BEGIN:STANDARD
TZNAME:CST
TZOFFSETFROM:-0500
TZOFFSETTO:-0600
DTSTART:19701101T020000
RRULE:FREQ=YEARLY;BYMONTH=11;BYDAY=1SU
END:STANDARD
END:VTIMEZONE
BEGIN:VEVENT
CATEGORIES:Category,Arts and Culture,Location,North Lake,Tag,Music,Tag,Womens History Month
DESCRIPTION:Join us for a recital featuring Gwendolyn D. Alfred. Praised for her bright and passionate tone (Houston Chronicle), soprano Gwendolyn Alfred made her Houston Grand Opera debut in a newly-commissioned work that landed her in the prestigious Texas Monthly magazine. Her Houston Symphony debut featured her as a soloist in their touring Summer Community Concert Series and she additionally sang the soprano solos in Beethoven&#039;s Ninth Symphony (Houston Civic Symphony &amp;amp; Fort Bend Symphony) and Carmina Burana (Fort Bend Symphony). Her most notable opera roles include Emeline (HGOco&#039;s What Wings They Were), Donna Anna (Don Giovanni), Giulietta (Les Contes d&#039;Hoffmann), Magda (The Consul), Contessa Almaviva (Le Nozze di Figaro), Madama Cortese (Il Viaggio a Reims), Mrs. Gobineau (The Medium), Cinna (Lucio Silla), and Maria Corona (The Saint of Bleecker Street) with such companies as HGOco, Opera in the Heights, Miami Music Festival, and The Moores Opera Center. As a scholar, her research on William Grant Still&#039;s opera, Troubled Island, was published in Black Americans in Higher Education: A Review of Social Science Research, Volume 8. Alfred has performed recitals on The Black Female Composer nationally and has presented her research at the Texoma NATS Regional Conference, NATS National Conference, NATS Journal of Singing, and The International Florence Price Festival. Her mission is to influence and build well-rounded musicians from diverse backgrounds with her love for a wide array of genres, and her eclectic experience with various musical styles. Location: North Lake Campus, Bldg. P, Rm. P302152687
DTSTAMP:20260423T074038
DTSTART;TZID=America/Chicago:20260313T190000
DTEND;TZID=America/Chicago:20260313T200000
LOCATION:North Lake
SUMMARY;LANGUAGE=en-us:Gwendolyn D. Alfred Recital
UID:7b05e1fa01f2d6f7ee96c73ec55189b2@www.dallascollege.edu
END:VEVENT
END:VCALENDAR
