BEGIN:VCALENDAR
VERSION:2.0
X-WR-CALNAME:EventsCalendar
CALSCALE:GREGORIAN
BEGIN:VTIMEZONE
TZID:America/Chicago
LAST-MODIFIED:20231222T233358Z
TZURL:https://www.tzurl.org/zoneinfo-outlook/America/Chicago
X-LIC-LOCATION:America/Chicago
BEGIN:DAYLIGHT
TZNAME:CDT
TZOFFSETFROM:-0600
TZOFFSETTO:-0500
DTSTART:19700308T020000
RRULE:FREQ=YEARLY;BYMONTH=3;BYDAY=2SU
END:DAYLIGHT
BEGIN:STANDARD
TZNAME:CST
TZOFFSETFROM:-0500
TZOFFSETTO:-0600
DTSTART:19701101T020000
RRULE:FREQ=YEARLY;BYMONTH=11;BYDAY=1SU
END:STANDARD
END:VTIMEZONE
BEGIN:VEVENT
CATEGORIES:Category,Arts and Culture,Location,Mountain View,Tag,Music
DESCRIPTION:The Music department of Dallas College invites you to Mountain View for a concert featuring orchestra students from Music programs across our various campuses, as well as our talented Mountain View Dance students. &amp;nbsp;This collaborative performance will highlight our students&amp;rsquo; accomplishments in their studies at Dallas College, as they perform various compositions from their repertoire. &amp;nbsp;This concert is free and open to all, and we hope to see you there! Location: Mountain View Campus, Bldg. E, Rm. E127152689
DTSTAMP:20260422T182054
DTSTART;TZID=America/Chicago:20260326T160000
DTEND;TZID=America/Chicago:20260326T170000
LOCATION:Mountain View
SUMMARY;LANGUAGE=en-us:Dallas College Combined Orchestra Concert
UID:2ca5ed4d299f33a5f3e08bacdd0a2cee@www.dallascollege.edu
END:VEVENT
END:VCALENDAR
