BEGIN:VCALENDAR
VERSION:2.0
X-WR-CALNAME:EventsCalendar
CALSCALE:GREGORIAN
BEGIN:VTIMEZONE
TZID:America/Chicago
LAST-MODIFIED:20231222T233358Z
TZURL:https://www.tzurl.org/zoneinfo-outlook/America/Chicago
X-LIC-LOCATION:America/Chicago
BEGIN:DAYLIGHT
TZNAME:CDT
TZOFFSETFROM:-0600
TZOFFSETTO:-0500
DTSTART:19700308T020000
RRULE:FREQ=YEARLY;BYMONTH=3;BYDAY=2SU
END:DAYLIGHT
BEGIN:STANDARD
TZNAME:CST
TZOFFSETFROM:-0500
TZOFFSETTO:-0600
DTSTART:19701101T020000
RRULE:FREQ=YEARLY;BYMONTH=11;BYDAY=1SU
END:STANDARD
END:VTIMEZONE
BEGIN:VEVENT
CATEGORIES:Category,Arts and Culture,Location,Richland,Tag,Arts Month,Tag,Music
DESCRIPTION:Join us for an unforgettable evening of music as our vocal and wind ensembles unite to create a powerful, harmonious experience. From soaring melodies to lively rhythms, this concert promises to captivate and inspire. Don&#039;t miss this beautiful fusion of voices and instruments in a performance that will leave you uplifted and moved. Location: Richland Campus, Fannin Hall, Room F102152695
DTSTAMP:20260422T200854
DTSTART;TZID=America/Chicago:20260408T193000
DTEND;TZID=America/Chicago:20260408T210000
LOCATION:Richland
SUMMARY;LANGUAGE=en-us:Vocal and Wind Ensemble Concert
UID:622df60025a32ad6e1102c723e48001f@www.dallascollege.edu
END:VEVENT
END:VCALENDAR
