BEGIN:VCALENDAR
VERSION:2.0
X-WR-CALNAME:EventsCalendar
CALSCALE:GREGORIAN
BEGIN:VTIMEZONE
TZID:America/Chicago
LAST-MODIFIED:20231222T233358Z
TZURL:https://www.tzurl.org/zoneinfo-outlook/America/Chicago
X-LIC-LOCATION:America/Chicago
BEGIN:DAYLIGHT
TZNAME:CDT
TZOFFSETFROM:-0600
TZOFFSETTO:-0500
DTSTART:19700308T020000
RRULE:FREQ=YEARLY;BYMONTH=3;BYDAY=2SU
END:DAYLIGHT
BEGIN:STANDARD
TZNAME:CST
TZOFFSETFROM:-0500
TZOFFSETTO:-0600
DTSTART:19701101T020000
RRULE:FREQ=YEARLY;BYMONTH=11;BYDAY=1SU
END:STANDARD
END:VTIMEZONE
BEGIN:VEVENT
CATEGORIES:Category,Arts and Culture,Location,Mountain View,Tag,Arts Month,Tag,Music
DESCRIPTION:Join us for a remarkable evening at our Mountain View Faculty Music Recital, where the talented professors of our music department take center stage! Experience a captivating program filled with exceptional performances across a range of instruments and genres. From classical masterpieces to contemporary works, this concert will showcase the expertise and artistry of our esteemed faculty. Don&#039;t miss the chance to hear these accomplished musicians in an intimate and inspiring setting! Location: Mountain View Campus, Bldg. E, Rm. E127152697
DTSTAMP:20260422T233021
DTSTART;TZID=America/Chicago:20260409T193000
DTEND;TZID=America/Chicago:20260409T203000
LOCATION:Mountain View
SUMMARY;LANGUAGE=en-us:Mountain View Faculty Music Recital
UID:68ffb802644f4aa1c04b8dd55122dcf2@www.dallascollege.edu
END:VEVENT
END:VCALENDAR
