BEGIN:VCALENDAR
VERSION:2.0
X-WR-CALNAME:EventsCalendar
CALSCALE:GREGORIAN
BEGIN:VTIMEZONE
TZID:America/Chicago
LAST-MODIFIED:20231222T233358Z
TZURL:https://www.tzurl.org/zoneinfo-outlook/America/Chicago
X-LIC-LOCATION:America/Chicago
BEGIN:DAYLIGHT
TZNAME:CDT
TZOFFSETFROM:-0600
TZOFFSETTO:-0500
DTSTART:19700308T020000
RRULE:FREQ=YEARLY;BYMONTH=3;BYDAY=2SU
END:DAYLIGHT
BEGIN:STANDARD
TZNAME:CST
TZOFFSETFROM:-0500
TZOFFSETTO:-0600
DTSTART:19701101T020000
RRULE:FREQ=YEARLY;BYMONTH=11;BYDAY=1SU
END:STANDARD
END:VTIMEZONE
BEGIN:VEVENT
CATEGORIES:Category,Arts and Culture,Location,Richland,Tag,Arts Month,Tag,Music
DESCRIPTION:Get ready for an electrifying night of smooth grooves and energetic rhythms at our upcoming jazz concert! Experience the improvisational magic and soulful melodies as our talented musicians take you on a musical journey. From classic jazz standards to fresh, dynamic arrangements, this concert is sure to get your feet tapping and your spirits soaring. Don&#039;t miss the chance to enjoy an unforgettable night of live jazz! Location: Richland Campus, Fannin Hall, Rm. F102152701
DTSTAMP:20260422T233008
DTSTART;TZID=America/Chicago:20260415T193000
DTEND;TZID=America/Chicago:20260415T210000
LOCATION:Richland
SUMMARY;LANGUAGE=en-us:Jazz Concert
UID:7e5c852acae48e82474ecd1c439784ee@www.dallascollege.edu
END:VEVENT
END:VCALENDAR
