BEGIN:VCALENDAR
VERSION:2.0
X-WR-CALNAME:EventsCalendar
CALSCALE:GREGORIAN
BEGIN:VTIMEZONE
TZID:America/Chicago
LAST-MODIFIED:20231222T233358Z
TZURL:https://www.tzurl.org/zoneinfo-outlook/America/Chicago
X-LIC-LOCATION:America/Chicago
BEGIN:DAYLIGHT
TZNAME:CDT
TZOFFSETFROM:-0600
TZOFFSETTO:-0500
DTSTART:19700308T020000
RRULE:FREQ=YEARLY;BYMONTH=3;BYDAY=2SU
END:DAYLIGHT
BEGIN:STANDARD
TZNAME:CST
TZOFFSETFROM:-0500
TZOFFSETTO:-0600
DTSTART:19701101T020000
RRULE:FREQ=YEARLY;BYMONTH=11;BYDAY=1SU
END:STANDARD
END:VTIMEZONE
BEGIN:VEVENT
CATEGORIES:Category,Arts and Culture,Location,Richland,Tag,Music
DESCRIPTION:Join us for a special evening celebrating the exceptional talent of our honors music students! This recital will feature outstanding performances across a variety of instruments and styles, showcasing the dedication and artistry of our most gifted musicians. Don&#039;t miss the chance to experience the future of music in an unforgettable performance that will inspire and captivate. Location: Richland Campus, Fannin Hall, Rm. F102152715
DTSTAMP:20260422T182734
DTSTART;TZID=America/Chicago:20260505T123000
DTEND;TZID=America/Chicago:20260505T143000
LOCATION:Richland
SUMMARY;LANGUAGE=en-us:Honors Music Student Recital
UID:3ace16d6574a1f4d6f9bb525fd70c4a8@www.dallascollege.edu
END:VEVENT
END:VCALENDAR
