BEGIN:VCALENDAR
VERSION:2.0
X-WR-CALNAME:EventsCalendar
CALSCALE:GREGORIAN
BEGIN:VTIMEZONE
TZID:America/Chicago
LAST-MODIFIED:20231222T233358Z
TZURL:https://www.tzurl.org/zoneinfo-outlook/America/Chicago
X-LIC-LOCATION:America/Chicago
BEGIN:DAYLIGHT
TZNAME:CDT
TZOFFSETFROM:-0600
TZOFFSETTO:-0500
DTSTART:19700308T020000
RRULE:FREQ=YEARLY;BYMONTH=3;BYDAY=2SU
END:DAYLIGHT
BEGIN:STANDARD
TZNAME:CST
TZOFFSETFROM:-0500
TZOFFSETTO:-0600
DTSTART:19701101T020000
RRULE:FREQ=YEARLY;BYMONTH=11;BYDAY=1SU
END:STANDARD
END:VTIMEZONE
BEGIN:VEVENT
CATEGORIES:Category,Arts and Culture,Location,Richland,Tag,Art,Tag,Art and Design
DESCRIPTION:Dallas College Galleries is pleased to present Unseen Narratives, a solo exhibition in the Brazos Gallery at Richland Campus. Step into the gallery this spring and experience Sudeep Kumar&amp;rsquo;s rich architectural landscapes to appreciate details often overlooked. From the artist: &amp;ldquo;Art for me is like a meditation, a silent conversation with self. It&amp;rsquo;s a means by which I see things more clearly. Spontaneity, unpredictability and self-discovery in making the art work constantly excite me! I am an avid painter, illustrator and urban sketcher. On one hand, my work is capturing the energy or mood of a place or event and presenting it to the audience to have them connect to the subject more closely as if it&amp;rsquo;s an integral part of their life. On the other hand, it&amp;rsquo;s a portrait of human emotions underneath our daily struggle for survival or mundane day to day activities. In today&#039;s world of technological advancement, I feel we as a species are losing touch with our surroundings, our environment and our fellow human beings. The real connection or intimacy is missing. That&#039;s what I try to present to the audience and have them take a step back from their busy life and explore their surroundings fully. I use charcoal, ink pen, watercolor to create the artworks and try to use minimum media/material to keep it simple without impacting the message they convey. My process begins with a location scouting, a place or event I can connect with, at a deeper emotional level, searching for a deeper message it conveys. Next step is a rough outline of the subject matter followed by working in layers of details as per the point of interest in art work. All this is done on location followed by final touches and finishing the work in studio. On-location aspect makes the artwork more lively and energetic. My artwork is unique for capturing the essence and details of the subject matter in a unique way as if audiences are seeing the beauty of next door street for the very first time. Since last more than a decade I have been painting, drawing, sketching, teaching, exhibiting, learning, sharing and inspiring the community. Also, I am a Faculty of Art of Living foundation, teaching meditation and breathing techniques for overall well-being for all individuals.&amp;rdquo; Join us for a reception in the Brazos Gallery located in Crockett Hall, room C140 on Thursday, February 12th, 2026 from 12-2pm. Exhibitions run January 20th &amp;ndash; February 27th, 2026. Gallery hours are Monday-Friday, 10am-4pm.&amp;nbsp; Contact galleries@dallascollege.edu for questions. Location: Richland Campus, Crockett Hall, C140 (Brazos Gallery) 152741
DTSTAMP:20260422T182238
DTSTART;TZID=America/Chicago:20260120T100000
DTEND;TZID=America/Chicago:20260120T160000
LOCATION:Richland
SUMMARY;LANGUAGE=en-us:Unseen Narratives by Sudeep Kumar Exhibit Opening Day
UID:b4e306b5a5140e2b16e9410ad8cf5242@www.dallascollege.edu
END:VEVENT
END:VCALENDAR
