BEGIN:VCALENDAR
VERSION:2.0
X-WR-CALNAME:EventsCalendar
CALSCALE:GREGORIAN
BEGIN:VTIMEZONE
TZID:America/Chicago
LAST-MODIFIED:20231222T233358Z
TZURL:https://www.tzurl.org/zoneinfo-outlook/America/Chicago
X-LIC-LOCATION:America/Chicago
BEGIN:DAYLIGHT
TZNAME:CDT
TZOFFSETFROM:-0600
TZOFFSETTO:-0500
DTSTART:19700308T020000
RRULE:FREQ=YEARLY;BYMONTH=3;BYDAY=2SU
END:DAYLIGHT
BEGIN:STANDARD
TZNAME:CST
TZOFFSETFROM:-0500
TZOFFSETTO:-0600
DTSTART:19701101T020000
RRULE:FREQ=YEARLY;BYMONTH=11;BYDAY=1SU
END:STANDARD
END:VTIMEZONE
BEGIN:VEVENT
CATEGORIES:Category,Arts and Culture,Location,Cedar Valley,Tag,Art,Tag,Art and Design
DESCRIPTION:Dallas College&amp;rsquo;s Gallery Program, part of the School of Creative Arts, Entertainment, and Design (CAED), is enthusiastic to announce Tina Medina&amp;rsquo;s solo show Enraizada located in the Cedar Valley Educational Gallery at our Cedar Valley Campus. Through an exploration of fibers, painting, video, and audio, Medina&amp;rsquo;s art reflects U.S. American history from the perspective of underrepresented voices in our communities, such as people of color, farmworkers, the undocumented, and women and children. Medina&#039;s art has been exhibited nationally in exhibits such as Immigration, Migration, Movement &amp;amp; The Humanities at Arizona State University, as well as Strive: An Exhibition Highlighting American Immigration &amp;amp; the American Dream, D&amp;rsquo;Art Center, Norfolk, Virginia. Most recently, Medina was selected to participate in Soy de Tejas, a statewide survey of Latinx art traveling exhibition featured at The Cheech Marin Center for Chicano Art &amp;amp; Culture in Riverside, California, in Fall 2025. Tina Medina is an artist, educator, and curator living in Dallas, Texas. Originally from West Texas, Medina earned her Bachelor of Fine Arts degree at Texas Tech University and her Master of Fine Arts degree at the University of North Texas. Since 2006, Medina has served as a full-time professor of art at Dallas College. Join the gallery team in the Cedar Valley Art Gallery on Wednesday, January 28th from 12-2pm for a reception and brief artist talk. Exhibitions run January 20 &amp;ndash; February 27. Campus Galleries are open Monday &amp;ndash; Friday 10am-4pm. Please contact Galleries@dallascollege.edu for any questions. Follow us on Instagram @dallascollegegalleries to stay updated! Location: Cedar Valley Campus, Bldg. E, Educational Art Gallery, Hallway 152759
DTSTAMP:20260422T182556
DTSTART;TZID=America/Chicago:20260120T100000
DTEND;TZID=America/Chicago:20260120T160000
LOCATION:Cedar Valley
SUMMARY;LANGUAGE=en-us:Enraizada by Tina Medina Exhibit Opening Day
UID:50425aba0a98597e5796ac8ec758cd81@www.dallascollege.edu
END:VEVENT
END:VCALENDAR
