BEGIN:VCALENDAR
VERSION:2.0
X-WR-CALNAME:EventsCalendar
CALSCALE:GREGORIAN
BEGIN:VTIMEZONE
TZID:America/Chicago
LAST-MODIFIED:20231222T233358Z
TZURL:https://www.tzurl.org/zoneinfo-outlook/America/Chicago
X-LIC-LOCATION:America/Chicago
BEGIN:DAYLIGHT
TZNAME:CDT
TZOFFSETFROM:-0600
TZOFFSETTO:-0500
DTSTART:19700308T020000
RRULE:FREQ=YEARLY;BYMONTH=3;BYDAY=2SU
END:DAYLIGHT
BEGIN:STANDARD
TZNAME:CST
TZOFFSETFROM:-0500
TZOFFSETTO:-0600
DTSTART:19701101T020000
RRULE:FREQ=YEARLY;BYMONTH=11;BYDAY=1SU
END:STANDARD
END:VTIMEZONE
BEGIN:VEVENT
CATEGORIES:Category,Arts and Culture,Location,Eastfield,Tag,Art,Tag,Art and Design
DESCRIPTION:Dallas College presents Belongings, a solo exhibition by Houston-based artist David Delgado. Bringing together paintings and sculptural works, the exhibition explores how nostalgia, scarcity, and value intersect in contemporary culture. The series grew out of Delgado&amp;rsquo;s habit of browsing eBay, where he became fascinated by overlooked objects that some discard, but others collect. Through painting and form, he reimagines these items to examine the tension between personal attachment and market value, inviting viewers to reconsider how worth, desire, and cultural meaning are constructed. Delgado earned a BFA in Studio Art (sculpture) from the University of Houston and has worked as an illustrator and in his family&amp;rsquo;s bronze foundry. He now teaches K&amp;ndash;6 students through arts education organizations such as MECA. Join the gallery team in the Eastfield Art Gallery F219 on Wednesday, February 4th from 12-2pm for a reception and brief artist talk from David Delgado. Exhibitions run January 20 &amp;ndash; February 27. Campus Galleries are open Monday &amp;ndash; Friday 10am-4pm. Please contact Galleries@dallascollege.edu for any questions. Location: Eastfield Campus, Bldg. F, Room F219 152769
DTSTAMP:20260422T202444
DTSTART;TZID=America/Chicago:20260204T120000
DTEND;TZID=America/Chicago:20260204T140000
LOCATION:Eastfield
SUMMARY;LANGUAGE=en-us:Belongings by David Delgado Exhibit Reception
UID:5c9ac6eb6cbb7b71258f5c81560da121@www.dallascollege.edu
END:VEVENT
END:VCALENDAR
