BEGIN:VCALENDAR
VERSION:2.0
X-WR-CALNAME:EventsCalendar
CALSCALE:GREGORIAN
BEGIN:VTIMEZONE
TZID:America/Chicago
LAST-MODIFIED:20231222T233358Z
TZURL:https://www.tzurl.org/zoneinfo-outlook/America/Chicago
X-LIC-LOCATION:America/Chicago
BEGIN:DAYLIGHT
TZNAME:CDT
TZOFFSETFROM:-0600
TZOFFSETTO:-0500
DTSTART:19700308T020000
RRULE:FREQ=YEARLY;BYMONTH=3;BYDAY=2SU
END:DAYLIGHT
BEGIN:STANDARD
TZNAME:CST
TZOFFSETFROM:-0500
TZOFFSETTO:-0600
DTSTART:19701101T020000
RRULE:FREQ=YEARLY;BYMONTH=11;BYDAY=1SU
END:STANDARD
END:VTIMEZONE
BEGIN:VEVENT
CATEGORIES:Category,Arts and Culture,Location,El Centro,Tag,Art,Tag,Art and Design
DESCRIPTION:Dallas College&amp;rsquo;s Gallery Program, part of the School of Creative Arts, Entertainment, and Design (CAED) is excited to announce Jennifer Godinez&amp;rsquo;s solo show El Valor de mi vida (The value of my life) at the H. Paxton Moore Fine Art Gallery. Born in Mexico and raised in the United States, the artist also known as VNA, has a practice shaped by the experience of moving between cultures and systems of belonging. Her work explores themes of visibility, identity, and displacement through expressive self-portraiture and surreal compositions. Positioned between multiple worlds, she reflects on what it means to search for belongings while navigating spaces that feel both familiar and estranged. Working primarily in Sumi ink, VNA leans into the medium&amp;rsquo;s sharp contrasts and subtle tonal shifts. Gray washes and dry-brush textures mirror the uncertainty of immigrant identity, which she describes as an emotional in-between where clarity and ambiguity coexist. Using recurring self-portraits, quiet humor, and unexpected visual pairings, VNA invites viewers into a space that feels both familiar and unsettled. Her work reflects the vulnerability and strength of those who live across borders, both geographically and internally. Join us for a reception in the H. Paxton Moore Fine Art Gallery located in Bldg. B, room B102 on Wednesday, February 11th, 2026 from 12-2pm. Exhibitions run January 20 &amp;ndash; February 27. Campus Galleries are open Monday &amp;ndash; Friday 10am-4pm. Please contact Galleries@dallascollege.edu for any questions. Location: El Centro Campus, Bldg. B, Room B102 (H. Paxton Moore Fine Art Gallery) 152771
DTSTAMP:20260422T232903
DTSTART;TZID=America/Chicago:20260120T100000
DTEND;TZID=America/Chicago:20260120T160000
LOCATION:El Centro
SUMMARY;LANGUAGE=en-us:El Valor de mi vida (The value of my life) by Jennifer Godinez Exhibit Opening Day
UID:acf4bea7f3ad635a6d73bb81313272f1@www.dallascollege.edu
END:VEVENT
END:VCALENDAR
