BEGIN:VCALENDAR
VERSION:2.0
X-WR-CALNAME:EventsCalendar
CALSCALE:GREGORIAN
BEGIN:VTIMEZONE
TZID:America/Chicago
LAST-MODIFIED:20231222T233358Z
TZURL:https://www.tzurl.org/zoneinfo-outlook/America/Chicago
X-LIC-LOCATION:America/Chicago
BEGIN:DAYLIGHT
TZNAME:CDT
TZOFFSETFROM:-0600
TZOFFSETTO:-0500
DTSTART:19700308T020000
RRULE:FREQ=YEARLY;BYMONTH=3;BYDAY=2SU
END:DAYLIGHT
BEGIN:STANDARD
TZNAME:CST
TZOFFSETFROM:-0500
TZOFFSETTO:-0600
DTSTART:19701101T020000
RRULE:FREQ=YEARLY;BYMONTH=11;BYDAY=1SU
END:STANDARD
END:VTIMEZONE
BEGIN:VEVENT
CATEGORIES:Category,Arts and Culture,Location,Mountain View,Tag,Art,Tag,Art and Design
DESCRIPTION:Dallas College&amp;rsquo;s Gallery Program, part of the School of Creative Arts, Entertainment, and Design (CAED), is pleased to announce Norman Kary&amp;rsquo;s solo show The Precarious Balance, located at Mountain View&amp;rsquo;s Cliff Gallery. His show marks a return to our Mountain View Campus where he once studied art. Norman Kary&amp;rsquo;s work delves into the socio-political and eclectic with sculptures made of found objects and handmade human figurines. Norman&amp;rsquo;s work can be found in numerous museums and private collections throughout Texas and beyond, including The Houston Museum of Fine Arts, The Noel Museum, The Austin Museum, The Bass Collection and The Barrett Collection. Since arriving in Texas in 1977, Norman Kary has been an active member of the artistic community for over forty years. Starting as a volunteer and later serving on the Board of Directors for D-Art, an exhibition center for artists without gallery representation. Additionally, Norman has served on the board of the Emergency Artist Support League (EASL), which provides financial assistance to artists in need, and supported local artist organizations such as 500X, The McKinney Ave Contemporary (The MAC), the Dallas Sculpture Association, Texas Sculpture Group, and the Texas Visual Arts Association. Exhibitions run January 20 &amp;ndash; February 27. Campus Galleries are open Monday &amp;ndash; Friday 10am-4pm. Please contact Galleries@dallascollege.edu for any questions. Follow us on Instagram for updates! Location: Mountain View Campus, Cliff Gallery, Bldg. W, Room W136 152779
DTSTAMP:20260422T182234
DTSTART;TZID=America/Chicago:20260227T100000
DTEND;TZID=America/Chicago:20260227T160000
LOCATION:Mountain View
SUMMARY;LANGUAGE=en-us:The Precarious Balance by Norman Kary Exhibit Closing Day
UID:38ff13fe00b7da6d2e54c4b0a99dc085@www.dallascollege.edu
END:VEVENT
END:VCALENDAR
