BEGIN:VCALENDAR
VERSION:2.0
X-WR-CALNAME:EventsCalendar
CALSCALE:GREGORIAN
BEGIN:VTIMEZONE
TZID:America/Chicago
LAST-MODIFIED:20231222T233358Z
TZURL:https://www.tzurl.org/zoneinfo-outlook/America/Chicago
X-LIC-LOCATION:America/Chicago
BEGIN:DAYLIGHT
TZNAME:CDT
TZOFFSETFROM:-0600
TZOFFSETTO:-0500
DTSTART:19700308T020000
RRULE:FREQ=YEARLY;BYMONTH=3;BYDAY=2SU
END:DAYLIGHT
BEGIN:STANDARD
TZNAME:CST
TZOFFSETFROM:-0500
TZOFFSETTO:-0600
DTSTART:19701101T020000
RRULE:FREQ=YEARLY;BYMONTH=11;BYDAY=1SU
END:STANDARD
END:VTIMEZONE
BEGIN:VEVENT
CATEGORIES:Category,Other,Location,Brookhaven,Tag,Carter Blood Care Blood Drives,Tag,Health and Well-Being Events
DESCRIPTION:Join us for a life-saving opportunity at our upcoming Blood Drive! Your participation can make a significant impact and help save lives in our community. Blood drives play a crucial role in maintaining an adequate blood supply for hospitals and medical facilities and help those undergoing surgeries, dealing with medical condition, or facing emergencies. Walk-up appointments are welcome, but advance sign-up is preferred. Blood drive sign up here: Blood Drive- 02/03 Blood Drive- 02/04 Location: Parking Lot 3153487
DTSTAMP:20260422T234855
DTSTART;TZID=America/Chicago:20260203T100000
DTEND;TZID=America/Chicago:20260203T150000
LOCATION:Brookhaven
SUMMARY;LANGUAGE=en-us:Carter BloodCare Blood Drive
UID:1ba12a72378486c0f9d180ca95742d90@www.dallascollege.edu
END:VEVENT
BEGIN:VEVENT
CATEGORIES:Category,Other,Location,Brookhaven,Tag,Carter Blood Care Blood Drives,Tag,Health and Well-Being Events
DESCRIPTION:Join us for a life-saving opportunity at our upcoming Blood Drive! Your participation can make a significant impact and help save lives in our community. Blood drives play a crucial role in maintaining an adequate blood supply for hospitals and medical facilities and help those undergoing surgeries, dealing with medical condition, or facing emergencies. Walk-up appointments are welcome, but advance sign-up is preferred. Blood drive sign up here: Blood Drive- 02/03 Blood Drive- 02/04 Location: Parking Lot 3153487
DTSTAMP:20260422T234855
DTSTART;TZID=America/Chicago:20260204T100000
DTEND;TZID=America/Chicago:20260204T150000
LOCATION:Brookhaven
SUMMARY;LANGUAGE=en-us:Carter BloodCare Blood Drive
UID:2366f185d60d7ae5d46cce9e4ad34ff8@www.dallascollege.edu
END:VEVENT
BEGIN:VEVENT
CATEGORIES:Category,Other,Location,Brookhaven,Tag,Carter Blood Care Blood Drives,Tag,Health and Well-Being Events
DESCRIPTION:Join us for a life-saving opportunity at our upcoming Blood Drive! Your participation can make a significant impact and help save lives in our community. Blood drives play a crucial role in maintaining an adequate blood supply for hospitals and medical facilities and help those undergoing surgeries, dealing with medical condition, or facing emergencies. Walk-up appointments are welcome, but advance sign-up is preferred. Blood drive sign up here: Blood Drive- 02/03 Blood Drive- 02/04 Location: Parking Lot 3153487
DTSTAMP:20260422T234855
DTSTART;TZID=America/Chicago:20261020T100000
DTEND;TZID=America/Chicago:20261020T150000
LOCATION:Brookhaven
SUMMARY;LANGUAGE=en-us:Carter BloodCare Blood Drive
UID:f29003b19dd56bd16988af856bb8f5ef@www.dallascollege.edu
END:VEVENT
BEGIN:VEVENT
CATEGORIES:Category,Other,Location,Brookhaven,Tag,Carter Blood Care Blood Drives,Tag,Health and Well-Being Events
DESCRIPTION:Join us for a life-saving opportunity at our upcoming Blood Drive! Your participation can make a significant impact and help save lives in our community. Blood drives play a crucial role in maintaining an adequate blood supply for hospitals and medical facilities and help those undergoing surgeries, dealing with medical condition, or facing emergencies. Walk-up appointments are welcome, but advance sign-up is preferred. Blood drive sign up here: Blood Drive- 02/03 Blood Drive- 02/04 Location: Parking Lot 3153487
DTSTAMP:20260422T234855
DTSTART;TZID=America/Chicago:20261021T100000
DTEND;TZID=America/Chicago:20261021T150000
LOCATION:Brookhaven
SUMMARY;LANGUAGE=en-us:Carter BloodCare Blood Drive
UID:7e6f4c646885d16d6e1e8627dae7398c@www.dallascollege.edu
END:VEVENT
END:VCALENDAR
