BEGIN:VCALENDAR
VERSION:2.0
X-WR-CALNAME:EventsCalendar
CALSCALE:GREGORIAN
BEGIN:VTIMEZONE
TZID:America/Chicago
LAST-MODIFIED:20231222T233358Z
TZURL:https://www.tzurl.org/zoneinfo-outlook/America/Chicago
X-LIC-LOCATION:America/Chicago
BEGIN:DAYLIGHT
TZNAME:CDT
TZOFFSETFROM:-0600
TZOFFSETTO:-0500
DTSTART:19700308T020000
RRULE:FREQ=YEARLY;BYMONTH=3;BYDAY=2SU
END:DAYLIGHT
BEGIN:STANDARD
TZNAME:CST
TZOFFSETFROM:-0500
TZOFFSETTO:-0600
DTSTART:19701101T020000
RRULE:FREQ=YEARLY;BYMONTH=11;BYDAY=1SU
END:STANDARD
END:VTIMEZONE
BEGIN:VEVENT
CATEGORIES:Category,Other,Location,Mountain View,Tag,Carter Blood Care Blood Drives,Tag,Health and Well-Being Events
DESCRIPTION:Join us for a life-saving opportunity at our upcoming Blood Drive! Your participation can make a significant impact and help save lives in our community. Blood drives play a crucial role in maintaining an adequate blood supply for hospitals and medical facilities and help those undergoing surgeries, dealing with medical condition, or facing emergencies. Walk-up appointments are welcome, but advance sign-up is preferred. Blood drive sign up here: Blood Drive Sign Ups Location: Parking Lot 1153499
DTSTAMP:20260421T112848
DTSTART;TZID=America/Chicago:20261006T100000
DTEND;TZID=America/Chicago:20261006T140000
LOCATION:Mountain View
SUMMARY;LANGUAGE=en-us:Carter BloodCare Blood Drive
UID:05940d4a7c21956c2bdf63ea5f25fb68@www.dallascollege.edu
END:VEVENT
BEGIN:VEVENT
CATEGORIES:Category,Other,Location,Mountain View,Tag,Carter Blood Care Blood Drives,Tag,Health and Well-Being Events
DESCRIPTION:Join us for a life-saving opportunity at our upcoming Blood Drive! Your participation can make a significant impact and help save lives in our community. Blood drives play a crucial role in maintaining an adequate blood supply for hospitals and medical facilities and help those undergoing surgeries, dealing with medical condition, or facing emergencies. Walk-up appointments are welcome, but advance sign-up is preferred. Blood drive sign up here: Blood Drive Sign Ups Location: Parking Lot 1153499
DTSTAMP:20260421T112848
DTSTART;TZID=America/Chicago:20261007T100000
DTEND;TZID=America/Chicago:20261007T140000
LOCATION:Mountain View
SUMMARY;LANGUAGE=en-us:Carter BloodCare Blood Drive
UID:1f099147e84039fd5007a46cf6f80d35@www.dallascollege.edu
END:VEVENT
END:VCALENDAR
