BEGIN:VCALENDAR
VERSION:2.0
X-WR-CALNAME:EventsCalendar
CALSCALE:GREGORIAN
BEGIN:VTIMEZONE
TZID:America/Chicago
LAST-MODIFIED:20231222T233358Z
TZURL:https://www.tzurl.org/zoneinfo-outlook/America/Chicago
X-LIC-LOCATION:America/Chicago
BEGIN:DAYLIGHT
TZNAME:CDT
TZOFFSETFROM:-0600
TZOFFSETTO:-0500
DTSTART:19700308T020000
RRULE:FREQ=YEARLY;BYMONTH=3;BYDAY=2SU
END:DAYLIGHT
BEGIN:STANDARD
TZNAME:CST
TZOFFSETFROM:-0500
TZOFFSETTO:-0600
DTSTART:19701101T020000
RRULE:FREQ=YEARLY;BYMONTH=11;BYDAY=1SU
END:STANDARD
END:VTIMEZONE
BEGIN:VEVENT
CATEGORIES:Category,Other,Location,North Lake,Tag,Carter Blood Care Blood Drives,Tag,Health and Well-Being Events
DESCRIPTION:Join us for a life-saving opportunity at our upcoming Blood Drive! Your participation can make a significant impact and help save lives in our community. Blood drives play a crucial role in maintaining an adequate blood supply for hospitals and medical facilities and help those undergoing surgeries, dealing with medical condition, or facing emergencies. Walk-up appointments are welcome, but advance sign-up is preferred. Blood drive sign up here: Blood Drive Sign Ups Location: Liberty Circle Roundabout153504
DTSTAMP:20260422T213452
DTSTART;TZID=America/Chicago:20260407T100000
DTEND;TZID=America/Chicago:20260407T150000
LOCATION:North Lake
SUMMARY;LANGUAGE=en-us:Carter BloodCare Blood Drive
UID:f412469173a88093feb77181aab188c3@www.dallascollege.edu
END:VEVENT
BEGIN:VEVENT
CATEGORIES:Category,Other,Location,North Lake,Tag,Carter Blood Care Blood Drives,Tag,Health and Well-Being Events
DESCRIPTION:Join us for a life-saving opportunity at our upcoming Blood Drive! Your participation can make a significant impact and help save lives in our community. Blood drives play a crucial role in maintaining an adequate blood supply for hospitals and medical facilities and help those undergoing surgeries, dealing with medical condition, or facing emergencies. Walk-up appointments are welcome, but advance sign-up is preferred. Blood drive sign up here: Blood Drive Sign Ups Location: Liberty Circle Roundabout153504
DTSTAMP:20260422T213452
DTSTART;TZID=America/Chicago:20261027T100000
DTEND;TZID=America/Chicago:20261027T150000
LOCATION:North Lake
SUMMARY;LANGUAGE=en-us:Carter BloodCare Blood Drive
UID:c06dfbeaafa6115e9838f3f26901a556@www.dallascollege.edu
END:VEVENT
END:VCALENDAR
