BEGIN:VCALENDAR
VERSION:2.0
X-WR-CALNAME:EventsCalendar
CALSCALE:GREGORIAN
BEGIN:VTIMEZONE
TZID:America/Chicago
LAST-MODIFIED:20231222T233358Z
TZURL:https://www.tzurl.org/zoneinfo-outlook/America/Chicago
X-LIC-LOCATION:America/Chicago
BEGIN:DAYLIGHT
TZNAME:CDT
TZOFFSETFROM:-0600
TZOFFSETTO:-0500
DTSTART:19700308T020000
RRULE:FREQ=YEARLY;BYMONTH=3;BYDAY=2SU
END:DAYLIGHT
BEGIN:STANDARD
TZNAME:CST
TZOFFSETFROM:-0500
TZOFFSETTO:-0600
DTSTART:19701101T020000
RRULE:FREQ=YEARLY;BYMONTH=11;BYDAY=1SU
END:STANDARD
END:VTIMEZONE
BEGIN:VEVENT
CATEGORIES:Category,Arts and Culture,Location,Brookhaven,Tag,Theater
DESCRIPTION:Auditions will consist of cold reads from the script. We are seeking a diverse cast of all ages and types, all are welcome. If cast in this production, you will be required to enroll in the Theatre Practicum class through Dallas College. Location:&amp;nbsp;Brookhaven Campus, Bldg. C, Room C205 (Black Box Theatre) &amp;nbsp;153556
DTSTAMP:20260422T182054
DTSTART;TZID=America/Chicago:20260324T190000
DTEND;TZID=America/Chicago:20260324T210000
LOCATION:Brookhaven
SUMMARY;LANGUAGE=en-us:Auditions
UID:ff806c6db86fece7299bea1a8dac6e5c@www.dallascollege.edu
END:VEVENT
BEGIN:VEVENT
CATEGORIES:Category,Arts and Culture,Location,Brookhaven,Tag,Theater
DESCRIPTION:Auditions will consist of cold reads from the script. We are seeking a diverse cast of all ages and types, all are welcome. If cast in this production, you will be required to enroll in the Theatre Practicum class through Dallas College. Location:&amp;nbsp;Brookhaven Campus, Bldg. C, Room C205 (Black Box Theatre) &amp;nbsp;153556
DTSTAMP:20260422T182054
DTSTART;TZID=America/Chicago:20260325T190000
DTEND;TZID=America/Chicago:20260325T210000
LOCATION:Brookhaven
SUMMARY;LANGUAGE=en-us:Auditions
UID:f4b14771301bfd4138246a702f6a22cf@www.dallascollege.edu
END:VEVENT
END:VCALENDAR
