BEGIN:VCALENDAR
VERSION:2.0
X-WR-CALNAME:EventsCalendar
CALSCALE:GREGORIAN
BEGIN:VTIMEZONE
TZID:America/Chicago
LAST-MODIFIED:20231222T233358Z
TZURL:https://www.tzurl.org/zoneinfo-outlook/America/Chicago
X-LIC-LOCATION:America/Chicago
BEGIN:DAYLIGHT
TZNAME:CDT
TZOFFSETFROM:-0600
TZOFFSETTO:-0500
DTSTART:19700308T020000
RRULE:FREQ=YEARLY;BYMONTH=3;BYDAY=2SU
END:DAYLIGHT
BEGIN:STANDARD
TZNAME:CST
TZOFFSETFROM:-0500
TZOFFSETTO:-0600
DTSTART:19701101T020000
RRULE:FREQ=YEARLY;BYMONTH=11;BYDAY=1SU
END:STANDARD
END:VTIMEZONE
BEGIN:VEVENT
CATEGORIES:Category,Board of Trustees,Location,Administrative Office,Tag,Board of Trustees
DESCRIPTION:The Board of Trustees will hold a finance committee meeting on Feb. 3, 2026. Meeting Location: Administrative Office, Room #036, Lower Level floor Feb. 3 Board Meeting: Finance Committee Agenda (PDF - 2MB) Watch live streaming of board meeting. View the Board of Trustees website. Agendas, captioned video, and transcripts for past Dallas College board meetings.153963
DTSTAMP:20260422T182054
DTSTART;TZID=America/Chicago:20260203T093000
DTEND;TZID=America/Chicago:20260203T140000
LOCATION:Administrative Office
SUMMARY;LANGUAGE=en-us:February Board Meeting - Finance Committee
UID:bee7e44c77746c66a7ceaefd47feeedc@www.dallascollege.edu
END:VEVENT
END:VCALENDAR
