BEGIN:VCALENDAR
VERSION:2.0
X-WR-CALNAME:EventsCalendar
CALSCALE:GREGORIAN
BEGIN:VTIMEZONE
TZID:America/Chicago
LAST-MODIFIED:20231222T233358Z
TZURL:https://www.tzurl.org/zoneinfo-outlook/America/Chicago
X-LIC-LOCATION:America/Chicago
BEGIN:DAYLIGHT
TZNAME:CDT
TZOFFSETFROM:-0600
TZOFFSETTO:-0500
DTSTART:19700308T020000
RRULE:FREQ=YEARLY;BYMONTH=3;BYDAY=2SU
END:DAYLIGHT
BEGIN:STANDARD
TZNAME:CST
TZOFFSETFROM:-0500
TZOFFSETTO:-0600
DTSTART:19701101T020000
RRULE:FREQ=YEARLY;BYMONTH=11;BYDAY=1SU
END:STANDARD
END:VTIMEZONE
BEGIN:VEVENT
CATEGORIES:Category,Community,Category,Other,Location,Brookhaven,Tag,Drive-Thru Pantry Days
DESCRIPTION:Get free food! Walk up to our mobile food pantry and pick up fresh produce and perishable food items. Open to the public, while supplies last. First come, first served. The mobile food pantry is offered in partnership with Metrocrest Services. Location: Brookhaven Campus, in front of J Building View our campus maps&amp;nbsp;for help locating this event. Mobile pantry days may be rescheduled or cancelled due to severe weather conditions. The latest delivery information will be shared through&amp;nbsp;Dallas College social media. You may also be interested in our Community Pantry Days. On most Fridays, our on-campus food pantries are open to the public! For more information, including future pantry dates, visit&amp;nbsp;DallasCollege.edu/FoodPantry.154679
DTSTAMP:20260421T161505
DTSTART;TZID=America/Chicago:20260202T090000
DTEND;TZID=America/Chicago:20260202T120000
LOCATION:Brookhaven
SUMMARY;LANGUAGE=en-us:Mobile Food Pantry
UID:3495a3f56a9704157040e1e07e11ef44@www.dallascollege.edu
END:VEVENT
BEGIN:VEVENT
CATEGORIES:Category,Community,Category,Other,Location,Brookhaven,Tag,Drive-Thru Pantry Days
DESCRIPTION:Get free food! Walk up to our mobile food pantry and pick up fresh produce and perishable food items. Open to the public, while supplies last. First come, first served. The mobile food pantry is offered in partnership with Metrocrest Services. Location: Brookhaven Campus, in front of J Building View our campus maps&amp;nbsp;for help locating this event. Mobile pantry days may be rescheduled or cancelled due to severe weather conditions. The latest delivery information will be shared through&amp;nbsp;Dallas College social media. You may also be interested in our Community Pantry Days. On most Fridays, our on-campus food pantries are open to the public! For more information, including future pantry dates, visit&amp;nbsp;DallasCollege.edu/FoodPantry.154679
DTSTAMP:20260421T161505
DTSTART;TZID=America/Chicago:20260302T090000
DTEND;TZID=America/Chicago:20260302T120000
LOCATION:Brookhaven
SUMMARY;LANGUAGE=en-us:Mobile Food Pantry
UID:ab0cde7e50075d77c7933c5538e10db6@www.dallascollege.edu
END:VEVENT
BEGIN:VEVENT
CATEGORIES:Category,Community,Category,Other,Location,Brookhaven,Tag,Drive-Thru Pantry Days
DESCRIPTION:Get free food! Walk up to our mobile food pantry and pick up fresh produce and perishable food items. Open to the public, while supplies last. First come, first served. The mobile food pantry is offered in partnership with Metrocrest Services. Location: Brookhaven Campus, in front of J Building View our campus maps&amp;nbsp;for help locating this event. Mobile pantry days may be rescheduled or cancelled due to severe weather conditions. The latest delivery information will be shared through&amp;nbsp;Dallas College social media. You may also be interested in our Community Pantry Days. On most Fridays, our on-campus food pantries are open to the public! For more information, including future pantry dates, visit&amp;nbsp;DallasCollege.edu/FoodPantry.154679
DTSTAMP:20260421T161505
DTSTART;TZID=America/Chicago:20260406T090000
DTEND;TZID=America/Chicago:20260406T120000
LOCATION:Brookhaven
SUMMARY;LANGUAGE=en-us:Mobile Food Pantry
UID:daaa80c44cac3c6946539ca9195aaaa2@www.dallascollege.edu
END:VEVENT
BEGIN:VEVENT
CATEGORIES:Category,Community,Category,Other,Location,Brookhaven,Tag,Drive-Thru Pantry Days
DESCRIPTION:Get free food! Walk up to our mobile food pantry and pick up fresh produce and perishable food items. Open to the public, while supplies last. First come, first served. The mobile food pantry is offered in partnership with Metrocrest Services. Location: Brookhaven Campus, in front of J Building View our campus maps&amp;nbsp;for help locating this event. Mobile pantry days may be rescheduled or cancelled due to severe weather conditions. The latest delivery information will be shared through&amp;nbsp;Dallas College social media. You may also be interested in our Community Pantry Days. On most Fridays, our on-campus food pantries are open to the public! For more information, including future pantry dates, visit&amp;nbsp;DallasCollege.edu/FoodPantry.154679
DTSTAMP:20260421T161505
DTSTART;TZID=America/Chicago:20260504T090000
DTEND;TZID=America/Chicago:20260504T120000
LOCATION:Brookhaven
SUMMARY;LANGUAGE=en-us:Mobile Food Pantry
UID:fe1679efbb282270aad3aee399533ad4@www.dallascollege.edu
END:VEVENT
END:VCALENDAR
