BEGIN:VCALENDAR
VERSION:2.0
X-WR-CALNAME:EventsCalendar
CALSCALE:GREGORIAN
BEGIN:VTIMEZONE
TZID:America/Chicago
LAST-MODIFIED:20231222T233358Z
TZURL:https://www.tzurl.org/zoneinfo-outlook/America/Chicago
X-LIC-LOCATION:America/Chicago
BEGIN:DAYLIGHT
TZNAME:CDT
TZOFFSETFROM:-0600
TZOFFSETTO:-0500
DTSTART:19700308T020000
RRULE:FREQ=YEARLY;BYMONTH=3;BYDAY=2SU
END:DAYLIGHT
BEGIN:STANDARD
TZNAME:CST
TZOFFSETFROM:-0500
TZOFFSETTO:-0600
DTSTART:19701101T020000
RRULE:FREQ=YEARLY;BYMONTH=11;BYDAY=1SU
END:STANDARD
END:VTIMEZONE
BEGIN:VEVENT
CATEGORIES:Category,Arts and Culture,Location,Brookhaven,Tag,Dance
DESCRIPTION:Brookhaven Dance Performance Auditions invite dancers of all backgrounds to showcase their talent and artistry. This is your opportunity to perform, grow, and be part of a dynamic, innovative dance production at Brookhaven. All interested dancers are encouraged to audition&amp;mdash;come move with us! Location:&amp;nbsp;Brookhaven Campus, Bldg. T, Room T100155326
DTSTAMP:20260422T202443
DTSTART;TZID=America/Chicago:20260205T123000
DTEND;TZID=America/Chicago:20260205T150000
LOCATION:Brookhaven
SUMMARY;LANGUAGE=en-us:Brookhaven Dance Performance Auditions
UID:93544632709955dea0763758bf4b5a35@www.dallascollege.edu
END:VEVENT
END:VCALENDAR
