BEGIN:VCALENDAR
VERSION:2.0
X-WR-CALNAME:EventsCalendar
CALSCALE:GREGORIAN
BEGIN:VTIMEZONE
TZID:America/Chicago
LAST-MODIFIED:20231222T233358Z
TZURL:https://www.tzurl.org/zoneinfo-outlook/America/Chicago
X-LIC-LOCATION:America/Chicago
BEGIN:DAYLIGHT
TZNAME:CDT
TZOFFSETFROM:-0600
TZOFFSETTO:-0500
DTSTART:19700308T020000
RRULE:FREQ=YEARLY;BYMONTH=3;BYDAY=2SU
END:DAYLIGHT
BEGIN:STANDARD
TZNAME:CST
TZOFFSETFROM:-0500
TZOFFSETTO:-0600
DTSTART:19701101T020000
RRULE:FREQ=YEARLY;BYMONTH=11;BYDAY=1SU
END:STANDARD
END:VTIMEZONE
BEGIN:VEVENT
CATEGORIES:Category,Arts and Culture,Location,North Lake,Tag,Intercultural/Global Events ,Tag,Military-Connected Services
DESCRIPTION:Join us to view the movie &quot;The Six Triple Eight&quot; for context before our Feb. 4 roundtable discussion. Discover the story of the 6888th Central Postal Directory Battalion, whose precision, discipline and determination delivered hope during World War II &amp;mdash; and whose legacy still speaks today. Location: North Lake Campus, Room H200155339
DTSTAMP:20260422T181415
DTSTART;TZID=America/Chicago:20260202T120000
DTEND;TZID=America/Chicago:20260202T153000
LOCATION:North Lake
SUMMARY;LANGUAGE=en-us:Threads of Heritage in Motion: Movie Screening
UID:3f7fb2d4dddf1c2eb2284bae7483fce4@www.dallascollege.edu
END:VEVENT
END:VCALENDAR
