BEGIN:VCALENDAR
VERSION:2.0
X-WR-CALNAME:EventsCalendar
CALSCALE:GREGORIAN
BEGIN:VTIMEZONE
TZID:America/Chicago
LAST-MODIFIED:20231222T233358Z
TZURL:https://www.tzurl.org/zoneinfo-outlook/America/Chicago
X-LIC-LOCATION:America/Chicago
BEGIN:DAYLIGHT
TZNAME:CDT
TZOFFSETFROM:-0600
TZOFFSETTO:-0500
DTSTART:19700308T020000
RRULE:FREQ=YEARLY;BYMONTH=3;BYDAY=2SU
END:DAYLIGHT
BEGIN:STANDARD
TZNAME:CST
TZOFFSETFROM:-0500
TZOFFSETTO:-0600
DTSTART:19701101T020000
RRULE:FREQ=YEARLY;BYMONTH=11;BYDAY=1SU
END:STANDARD
END:VTIMEZONE
BEGIN:VEVENT
CATEGORIES:Category,Arts and Culture,Location,North Lake,Tag,Intercultural/Global Events ,Tag,Military-Connected Services
DESCRIPTION:Join us for a roundtable discussion highlighting the 6888th Central Postal Directory Battalion. Their precision, discipline and determination delivered hope during World War II &amp;mdash; and their legacy still speaks today. We will also hold a fireside chat with military-affiliated, HBCU-educated nurses. Location: North Lake Campus, Room H200 Please register for this event.155341
DTSTAMP:20260422T181421
DTSTART;TZID=America/Chicago:20260204T140000
DTEND;TZID=America/Chicago:20260204T170000
LOCATION:North Lake
SUMMARY;LANGUAGE=en-us:Threads of Heritage in Motion: Roundtable Discussion
UID:e76a9b0ce6ff953fd7b28b5cd80f244e@www.dallascollege.edu
END:VEVENT
END:VCALENDAR
