BEGIN:VCALENDAR
VERSION:2.0
X-WR-CALNAME:EventsCalendar
CALSCALE:GREGORIAN
BEGIN:VTIMEZONE
TZID:America/Chicago
LAST-MODIFIED:20231222T233358Z
TZURL:https://www.tzurl.org/zoneinfo-outlook/America/Chicago
X-LIC-LOCATION:America/Chicago
BEGIN:DAYLIGHT
TZNAME:CDT
TZOFFSETFROM:-0600
TZOFFSETTO:-0500
DTSTART:19700308T020000
RRULE:FREQ=YEARLY;BYMONTH=3;BYDAY=2SU
END:DAYLIGHT
BEGIN:STANDARD
TZNAME:CST
TZOFFSETFROM:-0500
TZOFFSETTO:-0600
DTSTART:19701101T020000
RRULE:FREQ=YEARLY;BYMONTH=11;BYDAY=1SU
END:STANDARD
END:VTIMEZONE
BEGIN:VEVENT
CATEGORIES:Category,Student Life,Location,Brookhaven,Tag,SPACE Events
DESCRIPTION:Join us at Dallas College &amp;ndash; Brookhaven Campus for the Career &amp;amp; Transfer &amp;ldquo;Game of Life&amp;rdquo;, a giant, hands-on version of the classic game where you are the game pieces! Explore careers, transfer opportunities, and life decisions as you move through the board, making choices and seeing how they impact your &amp;ldquo;life path.&amp;rdquo; We&amp;rsquo;ll have free resources, snacks, and guidance from Career and Transfer Services to make your experience even better. Location: S Building Lobby, Brookhaven Campus. Come ready to learn, explore, and have fun while planning your future!155451
DTSTAMP:20260420T180051
DTSTART;TZID=America/Chicago:20260409T110000
DTEND;TZID=America/Chicago:20260409T130000
LOCATION:Brookhaven
SUMMARY;LANGUAGE=en-us:SPACE: Life In Play
UID:e67f83d9c6acbeef4ba791cdcf3e0c54@www.dallascollege.edu
END:VEVENT
END:VCALENDAR
