BEGIN:VCALENDAR
VERSION:2.0
X-WR-CALNAME:EventsCalendar
CALSCALE:GREGORIAN
BEGIN:VTIMEZONE
TZID:America/Chicago
LAST-MODIFIED:20231222T233358Z
TZURL:https://www.tzurl.org/zoneinfo-outlook/America/Chicago
X-LIC-LOCATION:America/Chicago
BEGIN:DAYLIGHT
TZNAME:CDT
TZOFFSETFROM:-0600
TZOFFSETTO:-0500
DTSTART:19700308T020000
RRULE:FREQ=YEARLY;BYMONTH=3;BYDAY=2SU
END:DAYLIGHT
BEGIN:STANDARD
TZNAME:CST
TZOFFSETFROM:-0500
TZOFFSETTO:-0600
DTSTART:19701101T020000
RRULE:FREQ=YEARLY;BYMONTH=11;BYDAY=1SU
END:STANDARD
END:VTIMEZONE
BEGIN:VEVENT
CATEGORIES:Category,Student Life,Location,Richland,Tag,SPACE Events
DESCRIPTION:Location: Red River Hall, 1213 A creative showcase celebrating student voices, expression, and storytelling. This event invites poets, writers, and performers of all backgrounds to share original work in a supportive, inspiring atmosphere. Whether you&#039;re performing or cheering from the audience, join us for an evening of powerful words, community connection, and artistic energy.155452
DTSTAMP:20260422T161225
DTSTART;TZID=America/Chicago:20260325T150000
DTEND;TZID=America/Chicago:20260325T170000
LOCATION:Richland
SUMMARY;LANGUAGE=en-us:Lift-Off Series: Richslam Vol. 2
UID:a43c14038e01a577bde961b73b864c3b@www.dallascollege.edu
END:VEVENT
END:VCALENDAR
