BEGIN:VCALENDAR
VERSION:2.0
X-WR-CALNAME:EventsCalendar
CALSCALE:GREGORIAN
BEGIN:VTIMEZONE
TZID:America/Chicago
LAST-MODIFIED:20231222T233358Z
TZURL:https://www.tzurl.org/zoneinfo-outlook/America/Chicago
X-LIC-LOCATION:America/Chicago
BEGIN:DAYLIGHT
TZNAME:CDT
TZOFFSETFROM:-0600
TZOFFSETTO:-0500
DTSTART:19700308T020000
RRULE:FREQ=YEARLY;BYMONTH=3;BYDAY=2SU
END:DAYLIGHT
BEGIN:STANDARD
TZNAME:CST
TZOFFSETFROM:-0500
TZOFFSETTO:-0600
DTSTART:19701101T020000
RRULE:FREQ=YEARLY;BYMONTH=11;BYDAY=1SU
END:STANDARD
END:VTIMEZONE
BEGIN:VEVENT
CATEGORIES:Category,Student Life,Location,Richland,Tag,SPACE Events
DESCRIPTION:Location: El Paso Lakeside Green Mission 2026 is a fun and engaging community gathering focused on sustainability, environmental awareness, and hands-on activities. Attendees can explore interactive exhibits, participate in eco-friendly workshops, and learn practical ways to care for our planet. This event is perfect for all ages and aims to inspire action, foster community connections, and make a positive impact on the environment.155464
DTSTAMP:20260420T151847
DTSTART;TZID=America/Chicago:20260422T120000
DTEND;TZID=America/Chicago:20260422T140000
LOCATION:Richland
SUMMARY;LANGUAGE=en-us:SPACE: Green Mission 2026: Earth Day
UID:627988d1615a82e7faed47e1ed57d85a@www.dallascollege.edu
END:VEVENT
END:VCALENDAR
