BEGIN:VCALENDAR
VERSION:2.0
X-WR-CALNAME:EventsCalendar
CALSCALE:GREGORIAN
BEGIN:VTIMEZONE
TZID:America/Chicago
LAST-MODIFIED:20231222T233358Z
TZURL:https://www.tzurl.org/zoneinfo-outlook/America/Chicago
X-LIC-LOCATION:America/Chicago
BEGIN:DAYLIGHT
TZNAME:CDT
TZOFFSETFROM:-0600
TZOFFSETTO:-0500
DTSTART:19700308T020000
RRULE:FREQ=YEARLY;BYMONTH=3;BYDAY=2SU
END:DAYLIGHT
BEGIN:STANDARD
TZNAME:CST
TZOFFSETFROM:-0500
TZOFFSETTO:-0600
DTSTART:19701101T020000
RRULE:FREQ=YEARLY;BYMONTH=11;BYDAY=1SU
END:STANDARD
END:VTIMEZONE
BEGIN:VEVENT
CATEGORIES:Category,Student Life,Location,North Lake,Tag,SPACE Events
DESCRIPTION:Join SPACE as we take a field trip to Klyde Warren Park and the Dallas Museum of Art. Boxed lunches will be provided. Transportation will be provided from North Lake Campus. Space is limited, so be sure to use the link below to RSVP: https://docs.google.com/forms/d/13OCsGGCoYiBEJkprTlAaJO4qTMYsJ7OQyIWwQt0fRow/edit?pli=1 &amp;nbsp;155466
DTSTAMP:20260422T221253
DTSTART;TZID=America/Chicago:20260429T090000
DTEND;TZID=America/Chicago:20260429T163000
LOCATION:North Lake
SUMMARY;LANGUAGE=en-us:SPACE: Field Trip
UID:d525fe4c291f42a9c1b1208ba8fd1e95@www.dallascollege.edu
END:VEVENT
END:VCALENDAR
