BEGIN:VCALENDAR
VERSION:2.0
X-WR-CALNAME:EventsCalendar
CALSCALE:GREGORIAN
BEGIN:VTIMEZONE
TZID:America/Chicago
LAST-MODIFIED:20231222T233358Z
TZURL:https://www.tzurl.org/zoneinfo-outlook/America/Chicago
X-LIC-LOCATION:America/Chicago
BEGIN:DAYLIGHT
TZNAME:CDT
TZOFFSETFROM:-0600
TZOFFSETTO:-0500
DTSTART:19700308T020000
RRULE:FREQ=YEARLY;BYMONTH=3;BYDAY=2SU
END:DAYLIGHT
BEGIN:STANDARD
TZNAME:CST
TZOFFSETFROM:-0500
TZOFFSETTO:-0600
DTSTART:19701101T020000
RRULE:FREQ=YEARLY;BYMONTH=11;BYDAY=1SU
END:STANDARD
END:VTIMEZONE
BEGIN:VEVENT
CATEGORIES:Category,Arts and Culture,Location,Brookhaven,Tag,Arts Month,Tag,Music
DESCRIPTION:Take a mid-day break and enjoy the smooth sounds of jazz at our Jazz Combo Coffee Concert. Join us in the performance hall lobby for an hour of live jazz featuring classic standards and contemporary favorites, performed by our talented student musicians. Grab a cup of coffee, settle in, and let the rhythm and improvisation brighten your afternoon.Free admission. All are welcome. Location:&amp;nbsp;Brookhaven Campus, Bldg. C, Room C200 (Performance Hall Lobby)155525
DTSTAMP:20260420T072525
DTSTART;TZID=America/Chicago:20260422T123000
DTEND;TZID=America/Chicago:20260422T133000
LOCATION:Brookhaven
SUMMARY;LANGUAGE=en-us:BHC Jazz Combo Coffee Concert
UID:403285b65b9f98813c886a7be4073ad2@www.dallascollege.edu
END:VEVENT
END:VCALENDAR
