BEGIN:VCALENDAR
VERSION:2.0
X-WR-CALNAME:EventsCalendar
CALSCALE:GREGORIAN
BEGIN:VTIMEZONE
TZID:America/Chicago
LAST-MODIFIED:20231222T233358Z
TZURL:https://www.tzurl.org/zoneinfo-outlook/America/Chicago
X-LIC-LOCATION:America/Chicago
BEGIN:DAYLIGHT
TZNAME:CDT
TZOFFSETFROM:-0600
TZOFFSETTO:-0500
DTSTART:19700308T020000
RRULE:FREQ=YEARLY;BYMONTH=3;BYDAY=2SU
END:DAYLIGHT
BEGIN:STANDARD
TZNAME:CST
TZOFFSETFROM:-0500
TZOFFSETTO:-0600
DTSTART:19701101T020000
RRULE:FREQ=YEARLY;BYMONTH=11;BYDAY=1SU
END:STANDARD
END:VTIMEZONE
BEGIN:VEVENT
CATEGORIES:Category,Special Events,Location,Mountain View
DESCRIPTION:We&amp;rsquo;re going all out with 60th anniversary celebrations at each campus this spring &amp;mdash; and yes, you&amp;rsquo;re invited!&amp;nbsp; This event is being held in conjunction with a garden dedication at Building Z. Join us for: Food, fun and giveaways Exclusive 60th Anniversary friendship bracelets Engaging photo ops Location: Mountain View Campus, Building Z, Garden155603
DTSTAMP:20260422T233411
DTSTART;TZID=America/Chicago:20260408T140000
DTEND;TZID=America/Chicago:20260408T150000
LOCATION:Mountain View
SUMMARY;LANGUAGE=en-us:60th Anniversary Celebration
UID:72df868f98fe955a2061e46f5719ea7f@www.dallascollege.edu
END:VEVENT
END:VCALENDAR
