BEGIN:VCALENDAR
VERSION:2.0
X-WR-CALNAME:EventsCalendar
CALSCALE:GREGORIAN
BEGIN:VTIMEZONE
TZID:America/Chicago
LAST-MODIFIED:20231222T233358Z
TZURL:https://www.tzurl.org/zoneinfo-outlook/America/Chicago
X-LIC-LOCATION:America/Chicago
BEGIN:DAYLIGHT
TZNAME:CDT
TZOFFSETFROM:-0600
TZOFFSETTO:-0500
DTSTART:19700308T020000
RRULE:FREQ=YEARLY;BYMONTH=3;BYDAY=2SU
END:DAYLIGHT
BEGIN:STANDARD
TZNAME:CST
TZOFFSETFROM:-0500
TZOFFSETTO:-0600
DTSTART:19701101T020000
RRULE:FREQ=YEARLY;BYMONTH=11;BYDAY=1SU
END:STANDARD
END:VTIMEZONE
BEGIN:VEVENT
CATEGORIES:Category,Arts and Culture,Location,Brookhaven,Tag,Arts Month,Tag,Music
DESCRIPTION:Join us for a midday lobby voice recital showcasing the artistry of Dallas College professors alongside accomplished alumni. This free performance is the perfect way to pause your day and enjoy inspiring live music up close. Location:&amp;nbsp;Brookhaven Campus, Bldg. C, Room C200 (Performance Hall Lobby)155608
DTSTAMP:20260420T001235
DTSTART;TZID=America/Chicago:20260415T123000
DTEND;TZID=America/Chicago:20260415T133000
LOCATION:Brookhaven
SUMMARY;LANGUAGE=en-us:Voice Recital - Dallas College Professors and Alumni
UID:0f364363e3406a0bfec025bde1ef122b@www.dallascollege.edu
END:VEVENT
END:VCALENDAR
