BEGIN:VCALENDAR
VERSION:2.0
X-WR-CALNAME:EventsCalendar
CALSCALE:GREGORIAN
BEGIN:VTIMEZONE
TZID:America/Chicago
LAST-MODIFIED:20231222T233358Z
TZURL:https://www.tzurl.org/zoneinfo-outlook/America/Chicago
X-LIC-LOCATION:America/Chicago
BEGIN:DAYLIGHT
TZNAME:CDT
TZOFFSETFROM:-0600
TZOFFSETTO:-0500
DTSTART:19700308T020000
RRULE:FREQ=YEARLY;BYMONTH=3;BYDAY=2SU
END:DAYLIGHT
BEGIN:STANDARD
TZNAME:CST
TZOFFSETFROM:-0500
TZOFFSETTO:-0600
DTSTART:19701101T020000
RRULE:FREQ=YEARLY;BYMONTH=11;BYDAY=1SU
END:STANDARD
END:VTIMEZONE
BEGIN:VEVENT
CATEGORIES:Category,Seminars and Speakers,Location,All Seven Campuses,Tag,Learning Commons 
DESCRIPTION:Join us for our Wednesday Workshops! These interactive sessions are designed to help you build academic skills, boost confidence and succeed in your courses. Each workshop features a different topic, so you can attend the sessions that best fit your needs. All students are welcome. Feb. 18 Focus: Math and Analytical ReasoningThe Experiment: &quot;Crack the Patterns&quot; Math isn&#039;t just about numbers; it&amp;rsquo;s about the underlying architecture of the world. This lab treats formulas like secret codes. Locations: All Seven Campuses &amp;mdash; Learning Commons Brookhaven - L376 Cedar Valley - C104N El Centro - B209 Eastfield -L208 Mountain View - W145 North Lake - L236 Richland - L107156075
DTSTAMP:20260422T234858
DTSTART;TZID=America/Chicago:20260218T120000
DTEND;TZID=America/Chicago:20260218T130000
LOCATION:All Seven Campuses
SUMMARY;LANGUAGE=en-us:Learning Commons Wednesday Workshops: Logic Lab
UID:ee4bd8a3d9157808faa6ecbffc7d996a@www.dallascollege.edu
END:VEVENT
END:VCALENDAR
