BEGIN:VCALENDAR
VERSION:2.0
X-WR-CALNAME:EventsCalendar
CALSCALE:GREGORIAN
BEGIN:VTIMEZONE
TZID:America/Chicago
LAST-MODIFIED:20231222T233358Z
TZURL:https://www.tzurl.org/zoneinfo-outlook/America/Chicago
X-LIC-LOCATION:America/Chicago
BEGIN:DAYLIGHT
TZNAME:CDT
TZOFFSETFROM:-0600
TZOFFSETTO:-0500
DTSTART:19700308T020000
RRULE:FREQ=YEARLY;BYMONTH=3;BYDAY=2SU
END:DAYLIGHT
BEGIN:STANDARD
TZNAME:CST
TZOFFSETFROM:-0500
TZOFFSETTO:-0600
DTSTART:19701101T020000
RRULE:FREQ=YEARLY;BYMONTH=11;BYDAY=1SU
END:STANDARD
END:VTIMEZONE
BEGIN:VEVENT
CATEGORIES:Category,Seminars and Speakers,Location,All Seven Campuses,Tag,Learning Commons ,Tag,Student Resources
DESCRIPTION:During this session, you will discover a useful theory in time management. Much of our time is allocated to urgent activities. Learn how to reorganize time so that most of your daily activities and educational obligations become areas of investment rather than last-minute endeavors. Learn how to develop a time management matrix to balance academic concerns. Bring a copy of your current class schedule so success coaches can advise and assist you. Contests and discussions are included! *Prizes and treats are provided for all participants. Register today! Locations: Brookhaven - L376 Cedar Valley - C104 Eastfield - L208 El Centro - B209 Mountain View - W145 North Lake - L236 Richland - L126156104
DTSTAMP:20260422T182343
DTSTART;TZID=America/Chicago:20260427T110000
DTEND;TZID=America/Chicago:20260427T120000
LOCATION:All Seven Campuses
SUMMARY;LANGUAGE=en-us:Level Up Your College Journey - Academic Time Management
UID:f13d80d057bddea2ad723fc068f7b566@www.dallascollege.edu
END:VEVENT
BEGIN:VEVENT
CATEGORIES:Category,Seminars and Speakers,Location,All Seven Campuses,Tag,Learning Commons ,Tag,Student Resources
DESCRIPTION:During this session, you will discover a useful theory in time management. Much of our time is allocated to urgent activities. Learn how to reorganize time so that most of your daily activities and educational obligations become areas of investment rather than last-minute endeavors. Learn how to develop a time management matrix to balance academic concerns. Bring a copy of your current class schedule so success coaches can advise and assist you. Contests and discussions are included! *Prizes and treats are provided for all participants. Register today! Locations: Brookhaven - L376 Cedar Valley - C104 Eastfield - L208 El Centro - B209 Mountain View - W145 North Lake - L236 Richland - L126156104
DTSTAMP:20260422T182343
DTSTART;TZID=America/Chicago:20260430T110000
DTEND;TZID=America/Chicago:20260430T120000
LOCATION:All Seven Campuses
SUMMARY;LANGUAGE=en-us:Level Up Your College Journey - Academic Time Management
UID:e2a7531975c301968246c784d2cf9d79@www.dallascollege.edu
END:VEVENT
BEGIN:VEVENT
CATEGORIES:Category,Seminars and Speakers,Location,All Seven Campuses,Tag,Learning Commons ,Tag,Student Resources
DESCRIPTION:During this session, you will discover a useful theory in time management. Much of our time is allocated to urgent activities. Learn how to reorganize time so that most of your daily activities and educational obligations become areas of investment rather than last-minute endeavors. Learn how to develop a time management matrix to balance academic concerns. Bring a copy of your current class schedule so success coaches can advise and assist you. Contests and discussions are included! *Prizes and treats are provided for all participants. Register today! Locations: Brookhaven - L376 Cedar Valley - C104 Eastfield - L208 El Centro - B209 Mountain View - W145 North Lake - L236 Richland - L126156104
DTSTAMP:20260422T182343
DTSTART;TZID=America/Chicago:20260430T180000
DTEND;TZID=America/Chicago:20260430T190000
LOCATION:All Seven Campuses
SUMMARY;LANGUAGE=en-us:Level Up Your College Journey - Academic Time Management
UID:4ad5c8249c29753e7fee5adf47384a0d@www.dallascollege.edu
END:VEVENT
END:VCALENDAR
