BEGIN:VCALENDAR
VERSION:2.0
X-WR-CALNAME:EventsCalendar
CALSCALE:GREGORIAN
BEGIN:VTIMEZONE
TZID:America/Chicago
LAST-MODIFIED:20231222T233358Z
TZURL:https://www.tzurl.org/zoneinfo-outlook/America/Chicago
X-LIC-LOCATION:America/Chicago
BEGIN:DAYLIGHT
TZNAME:CDT
TZOFFSETFROM:-0600
TZOFFSETTO:-0500
DTSTART:19700308T020000
RRULE:FREQ=YEARLY;BYMONTH=3;BYDAY=2SU
END:DAYLIGHT
BEGIN:STANDARD
TZNAME:CST
TZOFFSETFROM:-0500
TZOFFSETTO:-0600
DTSTART:19701101T020000
RRULE:FREQ=YEARLY;BYMONTH=11;BYDAY=1SU
END:STANDARD
END:VTIMEZONE
BEGIN:VEVENT
CATEGORIES:Category,Arts and Culture,Location,Eastfield,Tag,Arts Month,Tag,Music
DESCRIPTION:Enjoy an afternoon break with the exciting sounds of Eastfield Music Concert Series! Featuring Clarinet and Piano Concert with Eastfield Music Faculty Dr. Liudmila Chise (piano) and Guest Artist Dr. David Barrientos (clarinet). Location:&amp;nbsp;Eastfield Campus, Bldg. F, Room F117156203
DTSTAMP:20260420T072526
DTSTART;TZID=America/Chicago:20260401T130000
DTEND;TZID=America/Chicago:20260401T135000
LOCATION:Eastfield
SUMMARY;LANGUAGE=en-us:Eastfield Music Concert Series
UID:d90c103677822f26727a85f32887d748@www.dallascollege.edu
END:VEVENT
END:VCALENDAR
