BEGIN:VCALENDAR
VERSION:2.0
X-WR-CALNAME:EventsCalendar
CALSCALE:GREGORIAN
BEGIN:VTIMEZONE
TZID:America/Chicago
LAST-MODIFIED:20231222T233358Z
TZURL:https://www.tzurl.org/zoneinfo-outlook/America/Chicago
X-LIC-LOCATION:America/Chicago
BEGIN:DAYLIGHT
TZNAME:CDT
TZOFFSETFROM:-0600
TZOFFSETTO:-0500
DTSTART:19700308T020000
RRULE:FREQ=YEARLY;BYMONTH=3;BYDAY=2SU
END:DAYLIGHT
BEGIN:STANDARD
TZNAME:CST
TZOFFSETFROM:-0500
TZOFFSETTO:-0600
DTSTART:19701101T020000
RRULE:FREQ=YEARLY;BYMONTH=11;BYDAY=1SU
END:STANDARD
END:VTIMEZONE
BEGIN:VEVENT
CATEGORIES:Category,Arts and Culture,Location,Eastfield,Tag,Arts Month,Tag,Music
DESCRIPTION:Enjoy an afternoon break with the exciting sounds of Eastfield Music Concert Series! Featuring the Eastfield Early Brass Ensemble. Location:&amp;nbsp;Eastfield Campus, Bldg. F, Room F117156205
DTSTAMP:20260420T001012
DTSTART;TZID=America/Chicago:20260408T130000
DTEND;TZID=America/Chicago:20260408T135000
LOCATION:Eastfield
SUMMARY;LANGUAGE=en-us:Eastfield Music Concert Series
UID:119cebc4d8cc5bbe1bca8c6481889971@www.dallascollege.edu
END:VEVENT
END:VCALENDAR
