BEGIN:VCALENDAR
VERSION:2.0
X-WR-CALNAME:EventsCalendar
CALSCALE:GREGORIAN
BEGIN:VTIMEZONE
TZID:America/Chicago
LAST-MODIFIED:20231222T233358Z
TZURL:https://www.tzurl.org/zoneinfo-outlook/America/Chicago
X-LIC-LOCATION:America/Chicago
BEGIN:DAYLIGHT
TZNAME:CDT
TZOFFSETFROM:-0600
TZOFFSETTO:-0500
DTSTART:19700308T020000
RRULE:FREQ=YEARLY;BYMONTH=3;BYDAY=2SU
END:DAYLIGHT
BEGIN:STANDARD
TZNAME:CST
TZOFFSETFROM:-0500
TZOFFSETTO:-0600
DTSTART:19701101T020000
RRULE:FREQ=YEARLY;BYMONTH=11;BYDAY=1SU
END:STANDARD
END:VTIMEZONE
BEGIN:VEVENT
CATEGORIES:Category,Counseling and Psychological Services,Location,Brookhaven,Location,Online
DESCRIPTION:Feeling overwhelmed by social media? You&#039;re not alone. Join us to get real about how platforms like lnstagram and TikTok are affecting your mental health. We&#039;ll tackle the stress, anxiety, and pressure to be &#039;perfect&#039; online, and help you find a balance that works for you. This isn&#039;t just another workshop. It&#039;s a chance to connect, vent, and learn how to thrive in the digital world. Location: Brookhaven Virtual - Virtual This event is hosted by Dallas College Counseling and Psychological Services (CAPS). CAPS provides free mental health counseling services to Dallas College students. For questions or appointment requests, email&amp;nbsp;Counseling@DallasCollege.edu. If&amp;nbsp;you&#039;re&amp;nbsp;interested in attending more CAPS events, visit&amp;nbsp;DallasCollege.edu/CounselingEvents.&amp;nbsp; Your world can be stressful -&amp;nbsp;we&#039;re&amp;nbsp;here to help. To meet our team of counselors, students can visit&amp;nbsp;DallasCollege.edu/Counselors.&amp;nbsp; &amp;nbsp;156223
DTSTAMP:20260423T063126
DTSTART;TZID=America/Chicago:20260225T123000
DTEND;TZID=America/Chicago:20260225T134500
LOCATION:Brookhaven, Online
SUMMARY;LANGUAGE=en-us:Surviving Social Media: Mental Health in a Digital World 2/25
UID:6612b3cc4dade151d4d2e2bb119cc037@www.dallascollege.edu
END:VEVENT
END:VCALENDAR
