BEGIN:VCALENDAR
VERSION:2.0
X-WR-CALNAME:EventsCalendar
CALSCALE:GREGORIAN
BEGIN:VTIMEZONE
TZID:America/Chicago
LAST-MODIFIED:20231222T233358Z
TZURL:https://www.tzurl.org/zoneinfo-outlook/America/Chicago
X-LIC-LOCATION:America/Chicago
BEGIN:DAYLIGHT
TZNAME:CDT
TZOFFSETFROM:-0600
TZOFFSETTO:-0500
DTSTART:19700308T020000
RRULE:FREQ=YEARLY;BYMONTH=3;BYDAY=2SU
END:DAYLIGHT
BEGIN:STANDARD
TZNAME:CST
TZOFFSETFROM:-0500
TZOFFSETTO:-0600
DTSTART:19701101T020000
RRULE:FREQ=YEARLY;BYMONTH=11;BYDAY=1SU
END:STANDARD
END:VTIMEZONE
BEGIN:VEVENT
CATEGORIES:Category,Counseling and Psychological Services,Location,Eastfield
DESCRIPTION:Managing Stress and Transition Fatigue Location: Eastfield Campus Room B1500 This event is hosted by Dallas College Counseling and Psychological Services (CAPS). CAPS provides free mental health counseling services to Dallas College students. For questions or appointment requests, email&amp;nbsp;Counseling@DallasCollege.edu. If&amp;nbsp;you&#039;re&amp;nbsp;interested in attending more CAPS events, visit&amp;nbsp;DallasCollege.edu/CounselingEvents.&amp;nbsp; Your world can be stressful -&amp;nbsp;we&#039;re&amp;nbsp;here to help. To meet our team of counselors, students can visit&amp;nbsp;DallasCollege.edu/Counselors.&amp;nbsp; &amp;nbsp;156227
DTSTAMP:20260422T182345
DTSTART;TZID=America/Chicago:20260216T120000
DTEND;TZID=America/Chicago:20260216T130000
LOCATION:Eastfield
SUMMARY;LANGUAGE=en-us:MCS &amp; CAPS Wellness 2/16
UID:c5d943e41098ce63f7866b8161cbcd10@www.dallascollege.edu
END:VEVENT
END:VCALENDAR
