BEGIN:VCALENDAR
VERSION:2.0
X-WR-CALNAME:EventsCalendar
CALSCALE:GREGORIAN
BEGIN:VTIMEZONE
TZID:America/Chicago
LAST-MODIFIED:20231222T233358Z
TZURL:https://www.tzurl.org/zoneinfo-outlook/America/Chicago
X-LIC-LOCATION:America/Chicago
BEGIN:DAYLIGHT
TZNAME:CDT
TZOFFSETFROM:-0600
TZOFFSETTO:-0500
DTSTART:19700308T020000
RRULE:FREQ=YEARLY;BYMONTH=3;BYDAY=2SU
END:DAYLIGHT
BEGIN:STANDARD
TZNAME:CST
TZOFFSETFROM:-0500
TZOFFSETTO:-0600
DTSTART:19701101T020000
RRULE:FREQ=YEARLY;BYMONTH=11;BYDAY=1SU
END:STANDARD
END:VTIMEZONE
BEGIN:VEVENT
CATEGORIES:Category,Arts and Culture,Location,Mountain View,Tag,Theater
DESCRIPTION:Where Words Once Were is a dystopian coming-of-age play by Finegan Kruckemeyer focusing on a young boy, Orhan, who lives in a society with a strictly limited, 1,000-word vocabulary. When individuals use unapproved words, they face harsh penalties, prompting Orhan to defy these rules and discover the power of language and self-expression. Family-friendly, for second graders to senior citizens. Admission is free and open to all.&amp;nbsp; Location:&amp;nbsp;Mountain View Campus, Bldg. E, Room E127 (Performance Hall)156464
DTSTAMP:20260420T001011
DTSTART;TZID=America/Chicago:20260311T193000
DTEND;TZID=America/Chicago:20260311T210000
LOCATION:Mountain View
SUMMARY;LANGUAGE=en-us:Theatre Mountain View Presents: WHERE WORDS ONCE WERE by Finegan Kruckemeyer
UID:4d575b767c8270a23a67c77573dbf7e4@www.dallascollege.edu
END:VEVENT
BEGIN:VEVENT
CATEGORIES:Category,Arts and Culture,Location,Mountain View,Tag,Theater
DESCRIPTION:Where Words Once Were is a dystopian coming-of-age play by Finegan Kruckemeyer focusing on a young boy, Orhan, who lives in a society with a strictly limited, 1,000-word vocabulary. When individuals use unapproved words, they face harsh penalties, prompting Orhan to defy these rules and discover the power of language and self-expression. Family-friendly, for second graders to senior citizens. Admission is free and open to all.&amp;nbsp; Location:&amp;nbsp;Mountain View Campus, Bldg. E, Room E127 (Performance Hall)156464
DTSTAMP:20260420T001011
DTSTART;TZID=America/Chicago:20260312T193000
DTEND;TZID=America/Chicago:20260312T210000
LOCATION:Mountain View
SUMMARY;LANGUAGE=en-us:Theatre Mountain View Presents: WHERE WORDS ONCE WERE by Finegan Kruckemeyer
UID:85bba7fd4d260f6dd00ae215b6cca37e@www.dallascollege.edu
END:VEVENT
BEGIN:VEVENT
CATEGORIES:Category,Arts and Culture,Location,Mountain View,Tag,Theater
DESCRIPTION:Where Words Once Were is a dystopian coming-of-age play by Finegan Kruckemeyer focusing on a young boy, Orhan, who lives in a society with a strictly limited, 1,000-word vocabulary. When individuals use unapproved words, they face harsh penalties, prompting Orhan to defy these rules and discover the power of language and self-expression. Family-friendly, for second graders to senior citizens. Admission is free and open to all.&amp;nbsp; Location:&amp;nbsp;Mountain View Campus, Bldg. E, Room E127 (Performance Hall)156464
DTSTAMP:20260420T001011
DTSTART;TZID=America/Chicago:20260313T193000
DTEND;TZID=America/Chicago:20260313T210000
LOCATION:Mountain View
SUMMARY;LANGUAGE=en-us:Theatre Mountain View Presents: WHERE WORDS ONCE WERE by Finegan Kruckemeyer
UID:5112b412aa462f938df17c9dd7aad945@www.dallascollege.edu
END:VEVENT
END:VCALENDAR
