BEGIN:VCALENDAR
VERSION:2.0
X-WR-CALNAME:EventsCalendar
CALSCALE:GREGORIAN
BEGIN:VTIMEZONE
TZID:America/Chicago
LAST-MODIFIED:20231222T233358Z
TZURL:https://www.tzurl.org/zoneinfo-outlook/America/Chicago
X-LIC-LOCATION:America/Chicago
BEGIN:DAYLIGHT
TZNAME:CDT
TZOFFSETFROM:-0600
TZOFFSETTO:-0500
DTSTART:19700308T020000
RRULE:FREQ=YEARLY;BYMONTH=3;BYDAY=2SU
END:DAYLIGHT
BEGIN:STANDARD
TZNAME:CST
TZOFFSETFROM:-0500
TZOFFSETTO:-0600
DTSTART:19701101T020000
RRULE:FREQ=YEARLY;BYMONTH=11;BYDAY=1SU
END:STANDARD
END:VTIMEZONE
BEGIN:VEVENT
CATEGORIES:Category,Arts and Culture,Location,Mountain View,Tag,Theater
DESCRIPTION:Rod Wilson 24 Hour Ten Minute Play Festival, followed by an audience talk-back. Free admission and all are welcome. Location:&amp;nbsp;Mountain View Campus, Bldg. E, Room E127 (Performance Hall)156486
DTSTAMP:20260420T001011
DTSTART;TZID=America/Chicago:20260530T190000
DTEND;TZID=America/Chicago:20260530T210000
LOCATION:Mountain View
SUMMARY;LANGUAGE=en-us:Rod Wilson 24 Hour Ten Minute Play Festival
UID:8359750a899f9062e835f4a211c43a39@www.dallascollege.edu
END:VEVENT
END:VCALENDAR
