BEGIN:VCALENDAR
VERSION:2.0
X-WR-CALNAME:EventsCalendar
CALSCALE:GREGORIAN
BEGIN:VTIMEZONE
TZID:America/Chicago
LAST-MODIFIED:20231222T233358Z
TZURL:https://www.tzurl.org/zoneinfo-outlook/America/Chicago
X-LIC-LOCATION:America/Chicago
BEGIN:DAYLIGHT
TZNAME:CDT
TZOFFSETFROM:-0600
TZOFFSETTO:-0500
DTSTART:19700308T020000
RRULE:FREQ=YEARLY;BYMONTH=3;BYDAY=2SU
END:DAYLIGHT
BEGIN:STANDARD
TZNAME:CST
TZOFFSETFROM:-0500
TZOFFSETTO:-0600
DTSTART:19701101T020000
RRULE:FREQ=YEARLY;BYMONTH=11;BYDAY=1SU
END:STANDARD
END:VTIMEZONE
BEGIN:VEVENT
CATEGORIES:Category,Arts and Culture,Location,Mountain View,Tag,Theater
DESCRIPTION:Shakespeare at the Mountain View Fountain: A Midsummer Night&#039;s Dream by William Shakespeare Show starts at dusk, bring your own lawn chairs! Location:&amp;nbsp;Mountain View Campus, Mountain View Fountain (beside E building)156488
DTSTAMP:20260422T182537
DTSTART;TZID=America/Chicago:20260623T193000
DTEND;TZID=America/Chicago:20260623T213000
LOCATION:Mountain View
SUMMARY;LANGUAGE=en-us:Theatre Mountain View Presents: A Midsummer Night&#039;s Dream by William Shakespeare
UID:bfb3ac3936c83e9cb4441f979b7d26b6@www.dallascollege.edu
END:VEVENT
BEGIN:VEVENT
CATEGORIES:Category,Arts and Culture,Location,Mountain View,Tag,Theater
DESCRIPTION:Shakespeare at the Mountain View Fountain: A Midsummer Night&#039;s Dream by William Shakespeare Show starts at dusk, bring your own lawn chairs! Location:&amp;nbsp;Mountain View Campus, Mountain View Fountain (beside E building)156488
DTSTAMP:20260422T182537
DTSTART;TZID=America/Chicago:20260624T193000
DTEND;TZID=America/Chicago:20260624T213000
LOCATION:Mountain View
SUMMARY;LANGUAGE=en-us:Theatre Mountain View Presents: A Midsummer Night&#039;s Dream by William Shakespeare
UID:f7b15034dc73e73a35574ec91749d1bb@www.dallascollege.edu
END:VEVENT
BEGIN:VEVENT
CATEGORIES:Category,Arts and Culture,Location,Mountain View,Tag,Theater
DESCRIPTION:Shakespeare at the Mountain View Fountain: A Midsummer Night&#039;s Dream by William Shakespeare Show starts at dusk, bring your own lawn chairs! Location:&amp;nbsp;Mountain View Campus, Mountain View Fountain (beside E building)156488
DTSTAMP:20260422T182537
DTSTART;TZID=America/Chicago:20260625T193000
DTEND;TZID=America/Chicago:20260625T213000
LOCATION:Mountain View
SUMMARY;LANGUAGE=en-us:Theatre Mountain View Presents: A Midsummer Night&#039;s Dream by William Shakespeare
UID:f2f8ea3ffb406b10a8a8ce69ab0391d4@www.dallascollege.edu
END:VEVENT
BEGIN:VEVENT
CATEGORIES:Category,Arts and Culture,Location,Mountain View,Tag,Theater
DESCRIPTION:Shakespeare at the Mountain View Fountain: A Midsummer Night&#039;s Dream by William Shakespeare Show starts at dusk, bring your own lawn chairs! Location:&amp;nbsp;Mountain View Campus, Mountain View Fountain (beside E building)156488
DTSTAMP:20260422T182537
DTSTART;TZID=America/Chicago:20260626T193000
DTEND;TZID=America/Chicago:20260626T213000
LOCATION:Mountain View
SUMMARY;LANGUAGE=en-us:Theatre Mountain View Presents: A Midsummer Night&#039;s Dream by William Shakespeare
UID:fb13bc973b849a25076abeb88e929525@www.dallascollege.edu
END:VEVENT
BEGIN:VEVENT
CATEGORIES:Category,Arts and Culture,Location,Mountain View,Tag,Theater
DESCRIPTION:Shakespeare at the Mountain View Fountain: A Midsummer Night&#039;s Dream by William Shakespeare Show starts at dusk, bring your own lawn chairs! Location:&amp;nbsp;Mountain View Campus, Mountain View Fountain (beside E building)156488
DTSTAMP:20260422T182537
DTSTART;TZID=America/Chicago:20260627T193000
DTEND;TZID=America/Chicago:20260627T213000
LOCATION:Mountain View
SUMMARY;LANGUAGE=en-us:Theatre Mountain View Presents: A Midsummer Night&#039;s Dream by William Shakespeare
UID:1284038bba9c7f6c112db0568e9d8f7c@www.dallascollege.edu
END:VEVENT
END:VCALENDAR
