BEGIN:VCALENDAR
VERSION:2.0
X-WR-CALNAME:EventsCalendar
CALSCALE:GREGORIAN
BEGIN:VTIMEZONE
TZID:America/Chicago
LAST-MODIFIED:20231222T233358Z
TZURL:https://www.tzurl.org/zoneinfo-outlook/America/Chicago
X-LIC-LOCATION:America/Chicago
BEGIN:DAYLIGHT
TZNAME:CDT
TZOFFSETFROM:-0600
TZOFFSETTO:-0500
DTSTART:19700308T020000
RRULE:FREQ=YEARLY;BYMONTH=3;BYDAY=2SU
END:DAYLIGHT
BEGIN:STANDARD
TZNAME:CST
TZOFFSETFROM:-0500
TZOFFSETTO:-0600
DTSTART:19701101T020000
RRULE:FREQ=YEARLY;BYMONTH=11;BYDAY=1SU
END:STANDARD
END:VTIMEZONE
BEGIN:VEVENT
CATEGORIES:Category,Student Life,Location,Cedar Valley,Location,North Lake,Tag,SPACE Events
DESCRIPTION:Location:&amp;nbsp; Cedar Valley - N1051 N- Building North Lake - Courtyard&amp;nbsp; Join us for our annual Spring Fest celebration! Get ready for a time packed with:&amp;bull; Music&amp;bull; Food&amp;nbsp;&amp;bull; Games and interactive activities&amp;bull; Giveaways&amp;nbsp; Bring your friends, meet new people, and soak up the spring vibes with music, food, and nonstop fun across campus.156502
DTSTAMP:20260422T231204
DTSTART;TZID=America/Chicago:20260324T100000
DTEND;TZID=America/Chicago:20260324T130000
LOCATION:Cedar Valley, North Lake
SUMMARY;LANGUAGE=en-us:Spring Fest
UID:8b216f557d43d47c3c458ce79ef0a984@www.dallascollege.edu
END:VEVENT
END:VCALENDAR
