BEGIN:VCALENDAR
VERSION:2.0
X-WR-CALNAME:EventsCalendar
CALSCALE:GREGORIAN
BEGIN:VTIMEZONE
TZID:America/Chicago
LAST-MODIFIED:20231222T233358Z
TZURL:https://www.tzurl.org/zoneinfo-outlook/America/Chicago
X-LIC-LOCATION:America/Chicago
BEGIN:DAYLIGHT
TZNAME:CDT
TZOFFSETFROM:-0600
TZOFFSETTO:-0500
DTSTART:19700308T020000
RRULE:FREQ=YEARLY;BYMONTH=3;BYDAY=2SU
END:DAYLIGHT
BEGIN:STANDARD
TZNAME:CST
TZOFFSETFROM:-0500
TZOFFSETTO:-0600
DTSTART:19701101T020000
RRULE:FREQ=YEARLY;BYMONTH=11;BYDAY=1SU
END:STANDARD
END:VTIMEZONE
BEGIN:VEVENT
CATEGORIES:Category,Student Life,Location,Mountain View,Location,Richland,Tag,SPACE Events
DESCRIPTION:Location:&amp;nbsp; Mountain View - Student Courtyard&amp;nbsp; Richland - El Paso Lakeside Join us for our annual Spring Fest celebration! Get ready for a time packed with:&amp;bull; Music&amp;bull; Food&amp;nbsp;&amp;bull; Games and interactive activities&amp;bull; Giveaways&amp;nbsp; Bring your friends, meet new people, and soak up the spring vibes with music, food, and nonstop fun across campus.156505
DTSTAMP:20260422T200537
DTSTART;TZID=America/Chicago:20260326T100000
DTEND;TZID=America/Chicago:20260326T130000
LOCATION:Mountain View, Richland
SUMMARY;LANGUAGE=en-us:Spring Fest
UID:75ba74be34b44acca5b07f07a176d567@www.dallascollege.edu
END:VEVENT
END:VCALENDAR
